BEGIN:VCALENDAR
VERSION:2.0
PRODID:-//Indiana Dressage Society - ECPv6.15.20//NONSGML v1.0//EN
CALSCALE:GREGORIAN
METHOD:PUBLISH
X-WR-CALNAME:Indiana Dressage Society
X-ORIGINAL-URL:https://www.indianadressage.org
X-WR-CALDESC:Events for Indiana Dressage Society
REFRESH-INTERVAL;VALUE=DURATION:PT1H
X-Robots-Tag:noindex
X-PUBLISHED-TTL:PT1H
BEGIN:VTIMEZONE
TZID:America/Indiana/Indianapolis
BEGIN:DAYLIGHT
TZOFFSETFROM:-0500
TZOFFSETTO:-0400
TZNAME:EDT
DTSTART:20250309T070000
END:DAYLIGHT
BEGIN:STANDARD
TZOFFSETFROM:-0400
TZOFFSETTO:-0500
TZNAME:EST
DTSTART:20251102T060000
END:STANDARD
BEGIN:DAYLIGHT
TZOFFSETFROM:-0500
TZOFFSETTO:-0400
TZNAME:EDT
DTSTART:20260308T070000
END:DAYLIGHT
BEGIN:STANDARD
TZOFFSETFROM:-0400
TZOFFSETTO:-0500
TZNAME:EST
DTSTART:20261101T060000
END:STANDARD
BEGIN:DAYLIGHT
TZOFFSETFROM:-0500
TZOFFSETTO:-0400
TZNAME:EDT
DTSTART:20270314T070000
END:DAYLIGHT
BEGIN:STANDARD
TZOFFSETFROM:-0400
TZOFFSETTO:-0500
TZNAME:EST
DTSTART:20271107T060000
END:STANDARD
END:VTIMEZONE
BEGIN:VEVENT
DTSTART;VALUE=DATE:20260502
DTEND;VALUE=DATE:20260504
DTSTAMP:20260423T144159
CREATED:20251022T175756Z
LAST-MODIFIED:20260327T163812Z
UID:4506-1777680000-1777852799@www.indianadressage.org
SUMMARY:IDS May Schooling Show
DESCRIPTION:Join us at the Hoosier Horse Park for to open the 2026 show season at the IDS May Schooling Show on Saturday\, May 2nd and Sunday\, May 3rd. \nJudges: Mary Aitken “L Grad w/ Distinction” (IN)\, Martina Mertens “L Grad” (IL)\, Cathy Jacob “L Grad” (OH) \nOpening Day: Friday\, March 27th\, 2026\nClosing Day: Wednesday\, April 22nd\, 2026 \nEnter Online\nPrizelist\nWaiver
URL:https://www.indianadressage.org/event/2026-ids-may-schooling-show/
LOCATION:Hoosier Horse Park\, 7105 South Kern Street\, Nineveh\, IN\, 46164\, United States
CATEGORIES:Shows
END:VEVENT
BEGIN:VEVENT
DTSTART;VALUE=DATE:20260517
DTEND;VALUE=DATE:20260518
DTSTAMP:20260423T144159
CREATED:20260406T230008Z
LAST-MODIFIED:20260406T231047Z
UID:4665-1778976000-1779062399@www.indianadressage.org
SUMMARY:Foundation Charity Horse Show - May
DESCRIPTION:Prizelist
URL:https://www.indianadressage.org/event/foundation-charity-horse-show-3/
LOCATION:Boone County 4-H Fairgrounds\, 1300 E 100 S\, Lebanon\, IN\, 46052\, United States
CATEGORIES:IDS Approved,Shows
ORGANIZER;CN="Darla Bridges":MAILTO:redpegasusranch@hotmail.com
END:VEVENT
BEGIN:VEVENT
DTSTART;VALUE=DATE:20260524
DTEND;VALUE=DATE:20260525
DTSTAMP:20260423T144159
CREATED:20260210T173357Z
LAST-MODIFIED:20260210T173403Z
UID:4573-1779580800-1779667199@www.indianadressage.org
SUMMARY:Dan Hobyn Stables May Schooling Show
DESCRIPTION:
URL:https://www.indianadressage.org/event/dan-hobyn-stables-may-schooling-show-3/
LOCATION:Dan Hobyn Stables\, 704 N. Mathews Rd.\, Greenwood\, IN\, 46143\, United States
CATEGORIES:IDS Approved,Shows
ORGANIZER;CN="Dannette Morgan":MAILTO:dannettemorgan@aol.com
END:VEVENT
END:VCALENDAR