BEGIN:VCALENDAR
VERSION:2.0
PRODID:-//Indiana Dressage Society - ECPv6.15.20//NONSGML v1.0//EN
CALSCALE:GREGORIAN
METHOD:PUBLISH
X-WR-CALNAME:Indiana Dressage Society
X-ORIGINAL-URL:https://www.indianadressage.org
X-WR-CALDESC:Events for Indiana Dressage Society
REFRESH-INTERVAL;VALUE=DURATION:PT1H
X-Robots-Tag:noindex
X-PUBLISHED-TTL:PT1H
BEGIN:VTIMEZONE
TZID:America/Indiana/Indianapolis
BEGIN:DAYLIGHT
TZOFFSETFROM:-0500
TZOFFSETTO:-0400
TZNAME:EDT
DTSTART:20240310T070000
END:DAYLIGHT
BEGIN:STANDARD
TZOFFSETFROM:-0400
TZOFFSETTO:-0500
TZNAME:EST
DTSTART:20241103T060000
END:STANDARD
BEGIN:DAYLIGHT
TZOFFSETFROM:-0500
TZOFFSETTO:-0400
TZNAME:EDT
DTSTART:20250309T070000
END:DAYLIGHT
BEGIN:STANDARD
TZOFFSETFROM:-0400
TZOFFSETTO:-0500
TZNAME:EST
DTSTART:20251102T060000
END:STANDARD
BEGIN:DAYLIGHT
TZOFFSETFROM:-0500
TZOFFSETTO:-0400
TZNAME:EDT
DTSTART:20260308T070000
END:DAYLIGHT
BEGIN:STANDARD
TZOFFSETFROM:-0400
TZOFFSETTO:-0500
TZNAME:EST
DTSTART:20261101T060000
END:STANDARD
END:VTIMEZONE
BEGIN:VEVENT
DTSTART;TZID=America/Indiana/Indianapolis:20251105T183000
DTEND;TZID=America/Indiana/Indianapolis:20251105T203000
DTSTAMP:20260423T211103
CREATED:20250930T002035Z
LAST-MODIFIED:20251027T120224Z
UID:4475-1762367400-1762374600@www.indianadressage.org
SUMMARY:IDS Annual Membership Meeting
DESCRIPTION:Want to get more involved in the Indiana dressage community? We’d love to host you at the IDS Annual Membership Meeting Wednesday\, November 5th. \n\nDinner will be served at 6:30pm\, and the meeting will begin at 7:00pm. \nDuring the Annual Meeting\, you’ll hear a full recap of the state of the club over the past year\, then we’ll elect our new Officers\, Board Members\, and Alternates. \n  \nRSVP for the Annual Membership Meeting
URL:https://www.indianadressage.org/event/ids-annual-membership-meeting/
LOCATION:Janssen Veterinary Clinic\, 2420 W 236th St\, Sheridan\, IN\, 46069\, United States
END:VEVENT
BEGIN:VEVENT
DTSTART;TZID=America/Indiana/Indianapolis:20251122T180000
DTEND;TZID=America/Indiana/Indianapolis:20251122T220000
DTSTAMP:20260423T211103
CREATED:20250509T133759Z
LAST-MODIFIED:20251114T172057Z
UID:4367-1763834400-1763848800@www.indianadressage.org
SUMMARY:IDS Year-End Awards Celebration
DESCRIPTION:It’s time to celebrate! Join us at 6:00pm on Saturday\, November 22nd at The Palomino in Zionsville for a fun night to celebrate our member’s accomplishments this season. \n2025 High Percentage Award Winners\n2025 Ride-Offs Championship Award Winners\nRider Achievement Awards\n \n\n\n \n  \nBattle of the Barn Bucket Challenge\nDoes your barn have what it takes to win the 2nd Annual Battle of the Barn Bucket Challenge? Legacy Farm is the reining champion\, but who’s bucket will earn the most this year? \n  \nHighlights from 2024
URL:https://www.indianadressage.org/event/ids-year-end-awards-celebration/
LOCATION:The Palomino\, 481 S 1200 E\, Zionsville\, IN\, 46077\, United States
ORGANIZER;CN="LInda Kimbell":MAILTO:Lkimbell@eclipsere.com
END:VEVENT
END:VCALENDAR