BEGIN:VCALENDAR
VERSION:2.0
PRODID:-//Indiana Dressage Society - ECPv6.15.20//NONSGML v1.0//EN
CALSCALE:GREGORIAN
METHOD:PUBLISH
X-WR-CALNAME:Indiana Dressage Society
X-ORIGINAL-URL:https://www.indianadressage.org
X-WR-CALDESC:Events for Indiana Dressage Society
REFRESH-INTERVAL;VALUE=DURATION:PT1H
X-Robots-Tag:noindex
X-PUBLISHED-TTL:PT1H
BEGIN:VTIMEZONE
TZID:America/Indiana/Indianapolis
BEGIN:DAYLIGHT
TZOFFSETFROM:-0500
TZOFFSETTO:-0400
TZNAME:EDT
DTSTART:20230312T070000
END:DAYLIGHT
BEGIN:STANDARD
TZOFFSETFROM:-0400
TZOFFSETTO:-0500
TZNAME:EST
DTSTART:20231105T060000
END:STANDARD
BEGIN:DAYLIGHT
TZOFFSETFROM:-0500
TZOFFSETTO:-0400
TZNAME:EDT
DTSTART:20240310T070000
END:DAYLIGHT
BEGIN:STANDARD
TZOFFSETFROM:-0400
TZOFFSETTO:-0500
TZNAME:EST
DTSTART:20241103T060000
END:STANDARD
BEGIN:DAYLIGHT
TZOFFSETFROM:-0500
TZOFFSETTO:-0400
TZNAME:EDT
DTSTART:20250309T070000
END:DAYLIGHT
BEGIN:STANDARD
TZOFFSETFROM:-0400
TZOFFSETTO:-0500
TZNAME:EST
DTSTART:20251102T060000
END:STANDARD
END:VTIMEZONE
BEGIN:VEVENT
DTSTART;TZID=America/Indiana/Indianapolis:20241106T183000
DTEND;TZID=America/Indiana/Indianapolis:20241106T210000
DTSTAMP:20260424T174607
CREATED:20241014T142724Z
LAST-MODIFIED:20241014T144358Z
UID:4179-1730917800-1730926800@www.indianadressage.org
SUMMARY:IDS Annual Membership Meeting
DESCRIPTION:Want to get more involved in the Indiana dressage community? We’d love to host you at the IDS Annual Membership Meeting at the Sheridan Public Library on Wednesday\, November 6th. \n\nDinner will be served at 6:30pm\, and the meeting will begin at 7:00pm. \nMenu:\n– Salad\n– Stuffed Shells (meat or veggie options)\n– Garlic Bread\n– Green Beans\n– Variety of cookies \nDuring the Annual Meeting\, you’ll hear a full recap of the state of the club over the past year\, then we’ll elect our new Officers\, Board Members\, and Alternates. \n  \nRSVP for the Annual Membership Meeting
URL:https://www.indianadressage.org/event/2024-ids-annual-membership-meeting/
LOCATION:Sheridan Public LIbrary\, 103 W 1st St\, Sheridan\, IN\, 46069\, United States
END:VEVENT
BEGIN:VEVENT
DTSTART;VALUE=DATE:20241116
DTEND;VALUE=DATE:20241118
DTSTAMP:20260424T174607
CREATED:20241014T130752Z
LAST-MODIFIED:20241016T203510Z
UID:4150-1731715200-1731887999@www.indianadressage.org
SUMMARY:Biomechanics Clinic with Jennifer Mitchell
DESCRIPTION:We’re sorry\, this clinic has sold out! Email Linda Kimbell to be placed on the wait list. \nIDS is pleased to bring in Jennifer Mitchell\, Physical Therapist\, for a biomechanics clinic at Far Away Farm. Jennifer is the lead physio clinician for USEF. She spent the summer working with the US Equestrian Team athletes across at the 2024 Paris Olympic Games. She will do on and off the horse evaluations and make a comprehensive home program to address specific rider imbalances. \nThis biomechanics clinic will be held November 16-17 at Far Away Farms. Cost is $180 per rider for a one hour sessions both on and off horse. We can take up to 10 riders on Saturday and 6 on Sunday. \n \n \nAbout Jennifer MitchellJennifer Mitchell\, PT\, is a USEF Certified Practitioner\, thru the High Performance Program\, and Human Science and Sports Medicine Program of the US Equestrian Federation. She is the current contracted Lead Physio for the Olympic disciplines of US Equestrian. She is one of only four physical therapists nation-wide to be selected and trained to provide services to the squads and teams of the US Equestrian Federation. Jennifer has been a practicing Sports Medicine physical therapist since 1995\, with a strong focus on biomechanics\, integrated manual therapy and corrective exercise. Jennifer is also an equestrian athlete herself\, competing successfully over the last 40+ years in multiple disciplines\, including dressage\, hunters/jumpers\, and combined training.>
URL:https://www.indianadressage.org/event/biomechanics-clinic-with-jennifer-mitchell/
LOCATION:Far Away Farms\, 4169 E Boone County Rd\, Pittsboro\, IN\, 46167
ORGANIZER;CN="LInda Kimbell":MAILTO:Lkimbell@eclipsere.com
END:VEVENT
BEGIN:VEVENT
DTSTART;TZID=America/Indiana/Indianapolis:20241123T180000
DTEND;TZID=America/Indiana/Indianapolis:20241123T220000
DTSTAMP:20260424T174607
CREATED:20240516T014259Z
LAST-MODIFIED:20241115T154358Z
UID:4005-1732384800-1732399200@www.indianadressage.org
SUMMARY:2024 Year-End Awards Celebration
DESCRIPTION:It’s time to celebrate! The IDS Year-End Awards Celebration is upgrading to a larger venue at The Palomino in Zionsville. Join us at 6:00pm on Saturday\, November 23rd for fun night to celebrate our member’s accomplishments this season. \n  \n2024 Year-End Awards Winners\nWe are happy to announce the finalists in our award categories!  Our other award winners are listed below. We look forward to seeing you\, along with our entire membership\, at the IDS Year-End Awards Celebration to celebrate accomplishments\, contributions\, and friendships. \n2024 IDS Championships\n2024 IDS High Percentage Awards\n2024 Rider Achievement Awards\n  \nBattle of the Barn Bucket Challenge\nDoes your barn have what it takes to win the 2nd Annual Battle of the Barn Bucket Challenge? Legacy Farm is the reining champion\, but who’s bucket will earn the most this year? \n \n  \nPurchase Tickets for the 2024 Year-End Awards Celebration\n$50 ticket sales will continue through Wednesday\, November 20th.
URL:https://www.indianadressage.org/event/2024-year-end-awards-celebration/
LOCATION:The Palomino\, 481 S 1200 E\, Zionsville\, IN\, 46077\, United States
ORGANIZER;CN="LInda Kimbell":MAILTO:Lkimbell@eclipsere.com
END:VEVENT
END:VCALENDAR