BEGIN:VCALENDAR
VERSION:2.0
PRODID:-//Indiana Dressage Society - ECPv6.15.20//NONSGML v1.0//EN
CALSCALE:GREGORIAN
METHOD:PUBLISH
X-WR-CALNAME:Indiana Dressage Society
X-ORIGINAL-URL:https://www.indianadressage.org
X-WR-CALDESC:Events for Indiana Dressage Society
REFRESH-INTERVAL;VALUE=DURATION:PT1H
X-Robots-Tag:noindex
X-PUBLISHED-TTL:PT1H
BEGIN:VTIMEZONE
TZID:America/Indiana/Indianapolis
BEGIN:DAYLIGHT
TZOFFSETFROM:-0500
TZOFFSETTO:-0400
TZNAME:EDT
DTSTART:20230312T070000
END:DAYLIGHT
BEGIN:STANDARD
TZOFFSETFROM:-0400
TZOFFSETTO:-0500
TZNAME:EST
DTSTART:20231105T060000
END:STANDARD
BEGIN:DAYLIGHT
TZOFFSETFROM:-0500
TZOFFSETTO:-0400
TZNAME:EDT
DTSTART:20240310T070000
END:DAYLIGHT
BEGIN:STANDARD
TZOFFSETFROM:-0400
TZOFFSETTO:-0500
TZNAME:EST
DTSTART:20241103T060000
END:STANDARD
BEGIN:DAYLIGHT
TZOFFSETFROM:-0500
TZOFFSETTO:-0400
TZNAME:EDT
DTSTART:20250309T070000
END:DAYLIGHT
BEGIN:STANDARD
TZOFFSETFROM:-0400
TZOFFSETTO:-0500
TZNAME:EST
DTSTART:20251102T060000
END:STANDARD
END:VTIMEZONE
BEGIN:VEVENT
DTSTART;VALUE=DATE:20240901
DTEND;VALUE=DATE:20240902
DTSTAMP:20260424T223157
CREATED:20240402T164245Z
LAST-MODIFIED:20240402T164245Z
UID:3953-1725148800-1725235199@www.indianadressage.org
SUMMARY:Dan Hobyn Stables Fall Show
DESCRIPTION:Dressage classes are IDS Approved and count towards the IDS Annual Awards Program. Horse Trials are also offered\, but do not count towards IDS Awards. \nOpen Date: 7/1/2024\nClose Date: 8/16/2024 \nJudges: TBD \nPrizelist
URL:https://www.indianadressage.org/event/2024-dan-hobyn-stables-fall-show/
LOCATION:Dan Hobyn Stables\, 704 N. Mathews Rd.\, Greenwood\, IN\, 46143\, United States
CATEGORIES:IDS Approved,Shows
ORGANIZER;CN="Dannette Morgan":MAILTO:dannettemorgan@aol.com
END:VEVENT
BEGIN:VEVENT
DTSTART;VALUE=DATE:20240915
DTEND;VALUE=DATE:20240916
DTSTAMP:20260424T223157
CREATED:20240327T162041Z
LAST-MODIFIED:20240327T162041Z
UID:3936-1726358400-1726444799@www.indianadressage.org
SUMMARY:Indiana Equine Foundation Dressage Show
DESCRIPTION:
URL:https://www.indianadressage.org/event/indiana-equine-foundation-dressage-show/
LOCATION:Boone County 4-H Fairgrounds\, 1300 E 100 S\, Lebanon\, IN\, 46052\, United States
END:VEVENT
BEGIN:VEVENT
DTSTART;VALUE=DATE:20240921
DTEND;VALUE=DATE:20240923
DTSTAMP:20260424T223157
CREATED:20231215T220501Z
LAST-MODIFIED:20240918T003527Z
UID:3843-1726876800-1727049599@www.indianadressage.org
SUMMARY:IDS Ride-Offs & Fall Schooling Show
DESCRIPTION:Our last show of the year is always one to be remembered as we crown IDS Champions and Reserve Champions for the show season. Join us on the weekend of September 21st & 22nd to compete of an IDS Championship\, give your horse some valuable experience in a show environment\, or cheer on your friends at the IDS Ride-Offs & Fall Schooling Show! \nJudges: Jennifer Roth “R” (OH)\, Cathy Jacob “L Grad” (OH)\, Martina Mertens “L Grad” (IL) \nSchedule & Live Scoring\nStall Chart & Campsite Assignments\nCompetitor Notes\n\nVolunteer Positions\nVolunteer!\nIDS Participant Waiver\nPrizelist\nRiders Qualified for Championships as of 9/17\nMary Claire Piller on Caterina. Photo by Alicia Kuebler / AK Photography.
URL:https://www.indianadressage.org/event/ids-ride-offs-fall-schooling-show-2/
LOCATION:Hoosier Horse Park\, 7105 South Kern Street\, Nineveh\, IN\, 46164\, United States
END:VEVENT
END:VCALENDAR