BEGIN:VCALENDAR
VERSION:2.0
PRODID:-//Indiana Dressage Society - ECPv6.15.20//NONSGML v1.0//EN
CALSCALE:GREGORIAN
METHOD:PUBLISH
X-ORIGINAL-URL:https://www.indianadressage.org
X-WR-CALDESC:Events for Indiana Dressage Society
REFRESH-INTERVAL;VALUE=DURATION:PT1H
X-Robots-Tag:noindex
X-PUBLISHED-TTL:PT1H
BEGIN:VTIMEZONE
TZID:America/Indiana/Indianapolis
BEGIN:DAYLIGHT
TZOFFSETFROM:-0500
TZOFFSETTO:-0400
TZNAME:EDT
DTSTART:20230312T070000
END:DAYLIGHT
BEGIN:STANDARD
TZOFFSETFROM:-0400
TZOFFSETTO:-0500
TZNAME:EST
DTSTART:20231105T060000
END:STANDARD
BEGIN:DAYLIGHT
TZOFFSETFROM:-0500
TZOFFSETTO:-0400
TZNAME:EDT
DTSTART:20240310T070000
END:DAYLIGHT
BEGIN:STANDARD
TZOFFSETFROM:-0400
TZOFFSETTO:-0500
TZNAME:EST
DTSTART:20241103T060000
END:STANDARD
BEGIN:DAYLIGHT
TZOFFSETFROM:-0500
TZOFFSETTO:-0400
TZNAME:EDT
DTSTART:20250309T070000
END:DAYLIGHT
BEGIN:STANDARD
TZOFFSETFROM:-0400
TZOFFSETTO:-0500
TZNAME:EST
DTSTART:20251102T060000
END:STANDARD
END:VTIMEZONE
BEGIN:VEVENT
DTSTART;VALUE=DATE:20240420
DTEND;VALUE=DATE:20240421
DTSTAMP:20260425T073903
CREATED:20240314T123027Z
LAST-MODIFIED:20240314T135252Z
UID:3905-1713571200-1713657599@www.indianadressage.org
SUMMARY:Heartland Region Combined Test
DESCRIPTION:Support our local Pony Club by bringing your horse to the Heartland Region Combined Test on Saturday\, April 20th for the first show of the season at the Hoosier Horse Park. \nHeartland Region CT is an IDS Approved show where you can accumulate scores for the IDS awards program. Please keep in mind only scores from the dressage classes are counted whereas CT classes do NOT count.
URL:https://www.indianadressage.org/event/heartland-region-combined-test/
LOCATION:Hoosier Horse Park\, 7105 South Kern Street\, Nineveh\, IN\, 46164\, United States
CATEGORIES:IDS Approved,Shows
ORGANIZER;CN="Eron Owens":MAILTO:greystone.eowens@gmail.com
END:VEVENT
BEGIN:VEVENT
DTSTART;VALUE=DATE:20240427
DTEND;VALUE=DATE:20240429
DTSTAMP:20260425T073903
CREATED:20231107T195733Z
LAST-MODIFIED:20231215T215338Z
UID:3804-1714176000-1714348799@www.indianadressage.org
SUMMARY:USDF L Education Program - Part 1\, Session C
DESCRIPTION:IDS is pleased to host Part 1 of the USDF L Education Program in the Winter/Spring of 2024! \nDeveloped by the USDF Judges’ Committee\, this educational training program teaches judges to evaluate the correct training of dressage horses. \nThe L Education Program is designed with several goals in mind: \n\nProvide trainers\, instructors\, competitors and spectators’ insight into the evaluative techniques of judging dressage.\nPrepare and evaluate candidates who wish to pursue entry into the USEF ‘r’ Judge Training Program.\nProvide continuing education for licensed judges and L graduates.\n\nThe Program is divided into two parts; each part is made up of three sessions. IDS will be hosting Part 1 – “A Judge’s Perspective” which is open to all USDF Members; this is the educational foundation of the program. \nPart 1\, Session A\nAn introduction to judging and biomechanics. View overview video\nInstructor: Kathy Rouse\nFebruary 17-18\, 2024 in Whitestown\, IN \nPart 1\, Session B\nJudging criteria for gaits & paces\, movements & figures. View overview video\nInstructor: Lisa Schmidt\nMarch 16-17\, 2024 in Whitestown\, IN \nPart 1\, Session C\nCollective marks\, equitation\, rider biomechanics and basics.\nInstructor: Joan Darnell\nApril 27-28\, 2024 in Pittsboro\, IN \nApply to Participate or Audit\nL Education Program – Participant Application
URL:https://www.indianadressage.org/event/usdf-l-education-program-part-1-session-c/
LOCATION:Far Away Farms\, 4169 E Boone County Rd\, Pittsboro\, IN\, 46167
CATEGORIES:Education
ORGANIZER;CN="Deb Roccaforte":MAILTO:droccaforte@msn.com
END:VEVENT
END:VCALENDAR