BEGIN:VCALENDAR
VERSION:2.0
PRODID:-//Indiana Dressage Society - ECPv6.15.20//NONSGML v1.0//EN
CALSCALE:GREGORIAN
METHOD:PUBLISH
X-WR-CALNAME:Indiana Dressage Society
X-ORIGINAL-URL:https://www.indianadressage.org
X-WR-CALDESC:Events for Indiana Dressage Society
REFRESH-INTERVAL;VALUE=DURATION:PT1H
X-Robots-Tag:noindex
X-PUBLISHED-TTL:PT1H
BEGIN:VTIMEZONE
TZID:America/Indiana/Indianapolis
BEGIN:DAYLIGHT
TZOFFSETFROM:-0500
TZOFFSETTO:-0400
TZNAME:EDT
DTSTART:20220313T070000
END:DAYLIGHT
BEGIN:STANDARD
TZOFFSETFROM:-0400
TZOFFSETTO:-0500
TZNAME:EST
DTSTART:20221106T060000
END:STANDARD
BEGIN:DAYLIGHT
TZOFFSETFROM:-0500
TZOFFSETTO:-0400
TZNAME:EDT
DTSTART:20230312T070000
END:DAYLIGHT
BEGIN:STANDARD
TZOFFSETFROM:-0400
TZOFFSETTO:-0500
TZNAME:EST
DTSTART:20231105T060000
END:STANDARD
BEGIN:DAYLIGHT
TZOFFSETFROM:-0500
TZOFFSETTO:-0400
TZNAME:EDT
DTSTART:20240310T070000
END:DAYLIGHT
BEGIN:STANDARD
TZOFFSETFROM:-0400
TZOFFSETTO:-0500
TZNAME:EST
DTSTART:20241103T060000
END:STANDARD
END:VTIMEZONE
BEGIN:VEVENT
DTSTART;VALUE=DATE:20231118
DTEND;VALUE=DATE:20231119
DTSTAMP:20260425T174345
CREATED:20230904T131147Z
LAST-MODIFIED:20231105T223405Z
UID:3738-1700265600-1700351999@www.indianadressage.org
SUMMARY:IDS Year-End Celebration
DESCRIPTION:All Tickets are Sold Out\nThe IDS Year-End Celebration will return to the 1915 room at Moontown Brewing in Whitestown on Saturday\, November 18th. All tickets are sold out. \n2023 High Percentage Awards\n2023 IDS Championships\n2023 Rider Achievement Awards
URL:https://www.indianadressage.org/event/2023-ids-year-end-celebration/
LOCATION:Moontown Brewing\, 345 S. Bowers Street\, Whitestown\, IN\, 46075\, United States
ORGANIZER;CN="LInda Kimbell":MAILTO:Lkimbell@eclipsere.com
END:VEVENT
END:VCALENDAR