BEGIN:VCALENDAR
VERSION:2.0
PRODID:-//Indiana Dressage Society - ECPv6.15.20//NONSGML v1.0//EN
CALSCALE:GREGORIAN
METHOD:PUBLISH
X-WR-CALNAME:Indiana Dressage Society
X-ORIGINAL-URL:https://www.indianadressage.org
X-WR-CALDESC:Events for Indiana Dressage Society
REFRESH-INTERVAL;VALUE=DURATION:PT1H
X-Robots-Tag:noindex
X-PUBLISHED-TTL:PT1H
BEGIN:VTIMEZONE
TZID:America/Indiana/Indianapolis
BEGIN:DAYLIGHT
TZOFFSETFROM:-0500
TZOFFSETTO:-0400
TZNAME:EDT
DTSTART:20220313T070000
END:DAYLIGHT
BEGIN:STANDARD
TZOFFSETFROM:-0400
TZOFFSETTO:-0500
TZNAME:EST
DTSTART:20221106T060000
END:STANDARD
BEGIN:DAYLIGHT
TZOFFSETFROM:-0500
TZOFFSETTO:-0400
TZNAME:EDT
DTSTART:20230312T070000
END:DAYLIGHT
BEGIN:STANDARD
TZOFFSETFROM:-0400
TZOFFSETTO:-0500
TZNAME:EST
DTSTART:20231105T060000
END:STANDARD
BEGIN:DAYLIGHT
TZOFFSETFROM:-0500
TZOFFSETTO:-0400
TZNAME:EDT
DTSTART:20240310T070000
END:DAYLIGHT
BEGIN:STANDARD
TZOFFSETFROM:-0400
TZOFFSETTO:-0500
TZNAME:EST
DTSTART:20241103T060000
END:STANDARD
END:VTIMEZONE
BEGIN:VEVENT
DTSTART;VALUE=DATE:20230903
DTEND;VALUE=DATE:20230904
DTSTAMP:20260425T210230
CREATED:20230718T145441Z
LAST-MODIFIED:20230720T222837Z
UID:3693-1693699200-1693785599@www.indianadressage.org
SUMMARY:Dan Hobyn Stables Fall Horse Trials
DESCRIPTION:Prizelist
URL:https://www.indianadressage.org/event/dan-hobyn-stables-fall-horse-trials/
LOCATION:Dan Hobyn Stables\, 704 N. Mathews Rd.\, Greenwood\, IN\, 46143\, United States
CATEGORIES:IDS Approved,Shows
ORGANIZER;CN="Dannette Morgan":MAILTO:dannettemorgan@aol.com
END:VEVENT
BEGIN:VEVENT
DTSTART;VALUE=DATE:20230910
DTEND;VALUE=DATE:20230911
DTSTAMP:20260425T210230
CREATED:20230308T152947Z
LAST-MODIFIED:20230314T181327Z
UID:3500-1694304000-1694390399@www.indianadressage.org
SUMMARY:Indiana Equine Foundation Charity Dressage Show
DESCRIPTION:PrizeList\nEntry Form
URL:https://www.indianadressage.org/event/indiana-equine-foundation-charity-dressage-show-2/
LOCATION:Boone County 4-H Fairgrounds\, 1300 E 100 S\, Lebanon\, IN\, 46052\, United States
ORGANIZER;CN="Darla Bridges":MAILTO:redpegasusranch@hotmail.com
END:VEVENT
BEGIN:VEVENT
DTSTART;VALUE=DATE:20230916
DTEND;VALUE=DATE:20230918
DTSTAMP:20260425T210230
CREATED:20221206T160039Z
LAST-MODIFIED:20230912T010508Z
UID:3395-1694822400-1694995199@www.indianadressage.org
SUMMARY:IDS Ride-Offs & Fall Schooling Show
DESCRIPTION:We’re excited to share one last incredible weekend with you and your horses to wrap up the 2023 show series! In addition to a 2-day schooling show\, we can’t wait to see our best horse and rider pairs compete for the 2023 IDS Ride-Offs to compete for an IDS Championship. \nProvisional Schedule\nStall Chart & Campsites\nPrizelist\nVolunteers Needed!\nAlison and Emily Dodd with ZaZa – Photo by Leah Borders
URL:https://www.indianadressage.org/event/ids-ride-offs-fall-schooling-show/
LOCATION:Hoosier Horse Park\, 7105 South Kern Street\, Nineveh\, IN\, 46164\, United States
CATEGORIES:Shows
END:VEVENT
BEGIN:VEVENT
DTSTART;VALUE=DATE:20230929
DTEND;VALUE=DATE:20231002
DTSTAMP:20260425T210230
CREATED:20230904T132023Z
LAST-MODIFIED:20230904T132100Z
UID:3742-1695945600-1696204799@www.indianadressage.org
SUMMARY:Jeff Moore Clinic
DESCRIPTION:Indiana Dressage Society is happy to welcome Jeff Moore back for a clinic September 29 through October 1. After successful back surgery and rehab which forced the cancellation of April’s clinic\, Jeff is ready to return. \nWe hope you can join us to take advantage of this very special educational opportunity.   \n \nJ. Ashton Moore Clinic Application Form\nJ. Ashton “Jeff” Moore is a USEF “S” dressage judge\, sporthorse breeding judge\, and has judged at the FEI World Equestrian Games. Jeff is the head trainer\, owner and operator of Osierlea in San Juan Bautista\, CA. As a successful competitor\, Jeff earned USDF Bronze\, Silver and Gold medals. He has ridden seven horses at the Grand Prix level\, and was shortlisted for the Olympics. Jeff has trained more than 20 Grand Prix horses ridden by his students. \nJeff has a deep involvement in several key organizations and initiatives\, often times working together with the late Liz Searle. Jeff and Liz conceived and launched the USDF “L” Education Program. He also co-authored the USDF Glossary of Judging Terms. Jeff is the Co-Founder and former Executive Director of the Dutch Warmblood Studbook in North America (KWPN-NA). He is also co-founder and Technical Advisor of the American Vaulting Association. \nJeff is a student of some interesting characters\, including Col. Alois Podhajsky\, Director of the Spanish Riding School; Col. Waldemar Seunig\, a famous author of several seminal works about dressage; Count Herman Wrangel; and Baron Hans von Blixen-Finecke\, an Olympic gold medalist\, coach\, and Commandant of the Swedish Cavalry School at Stromsholm Castle.
URL:https://www.indianadressage.org/event/2003-09-jeff-moore-clinic/
LOCATION:Fishback Creek Farm\, 7867 S. Retriever Lane\, Zionsville\, IN\, 46077\, United States
END:VEVENT
END:VCALENDAR