BEGIN:VCALENDAR
VERSION:2.0
PRODID:-//Indiana Dressage Society - ECPv6.15.20//NONSGML v1.0//EN
CALSCALE:GREGORIAN
METHOD:PUBLISH
X-WR-CALNAME:Indiana Dressage Society
X-ORIGINAL-URL:https://www.indianadressage.org
X-WR-CALDESC:Events for Indiana Dressage Society
REFRESH-INTERVAL;VALUE=DURATION:PT1H
X-Robots-Tag:noindex
X-PUBLISHED-TTL:PT1H
BEGIN:VTIMEZONE
TZID:America/Indiana/Indianapolis
BEGIN:DAYLIGHT
TZOFFSETFROM:-0500
TZOFFSETTO:-0400
TZNAME:EDT
DTSTART:20220313T070000
END:DAYLIGHT
BEGIN:STANDARD
TZOFFSETFROM:-0400
TZOFFSETTO:-0500
TZNAME:EST
DTSTART:20221106T060000
END:STANDARD
BEGIN:DAYLIGHT
TZOFFSETFROM:-0500
TZOFFSETTO:-0400
TZNAME:EDT
DTSTART:20230312T070000
END:DAYLIGHT
BEGIN:STANDARD
TZOFFSETFROM:-0400
TZOFFSETTO:-0500
TZNAME:EST
DTSTART:20231105T060000
END:STANDARD
BEGIN:DAYLIGHT
TZOFFSETFROM:-0500
TZOFFSETTO:-0400
TZNAME:EDT
DTSTART:20240310T070000
END:DAYLIGHT
BEGIN:STANDARD
TZOFFSETFROM:-0400
TZOFFSETTO:-0500
TZNAME:EST
DTSTART:20241103T060000
END:STANDARD
END:VTIMEZONE
BEGIN:VEVENT
DTSTART;VALUE=DATE:20230805
DTEND;VALUE=DATE:20230806
DTSTAMP:20260425T223511
CREATED:20230216T154331Z
LAST-MODIFIED:20230308T152450Z
UID:3476-1691193600-1691279999@www.indianadressage.org
SUMMARY:Alliance Equestrian - August 5th Schooling Show
DESCRIPTION:The Alliance Equestrian August 5th Schooling Show is IDS Approved and will feature Isabel Fix “L Graduate” as the judge. \n  \nShowbill\nEntry Form
URL:https://www.indianadressage.org/event/alliance-equestrian-august-5th-schooling-show/
LOCATION:Alliance Equestrian Center\, 2400 N County Road 725 W\, Yorktown\, IN\, 47396\, United States
ORGANIZER;CN="Allison Whisler":MAILTO:whislerequestrianservices@yahoo.com
END:VEVENT
BEGIN:VEVENT
DTSTART;VALUE=DATE:20230819
DTEND;VALUE=DATE:20230821
DTSTAMP:20260425T223511
CREATED:20221206T155944Z
LAST-MODIFIED:20230817T152601Z
UID:3393-1692403200-1692575999@www.indianadressage.org
SUMMARY:Indiana Dressage Festival I & II
DESCRIPTION:The USDF/USEF rated Indiana Dressage Festival I & II are some of your last chances to earn qualifying scores for the 2023 GIAG/USDF Region 2 Dressage Championships. \nStall Charts & Campsite Assignments\nSaturday Schedule/Scores\nSunday Schedule/Scores\nPrizelist\nVolunteer\nMary Claire Piller on Caterina. Photo by Alicia Kuebler / AK Photography. \nUSEF\, SafeSport\, and MAAP\nUSEF thanks you for participating in this competition and your support of USEF’s continuous efforts to provide the safest environment possible for our athletes and other participants. Strategies for safeguarding athletes continue to evolve\, and we are fully committed to keeping pace with best practices.\n \nUSEF would like to remind you that you are bound by the U.S. Center for SafeSport Code\, USEF Safe Sport Policy\, and Minor Athlete Abuse Prevention Policies (MAAPP). This includes the SafeSport Training requirement for adult members and participants who have regular contact with or authority over minor athletes. Additionally\, please be reminded about reporting obligations. Any concerns that are non-sexual in nature\, please use the USEF Safe Sport Incident Reporting Form available on the USEF website. Concerns or suspicions regarding sexual misconduct must be reported here and the authorities if a minor is involved. All of this information can be found in the USEF Safe Sport Policy\, or you can contact Sarah Gilbert\, USEF Safe Sport Program Coordinator\, at sgilbert@usef.org for any questions or concerns relating to the USEF Safe Sport program. \n  \nVesicular Stomatitis (VS)\nUSEF is now requiring Competition Managers to have a plan in regards to the Vesicular Stomatitis (VS) outbreak which was first identified around San Diego\, CA. We have chosen to restrict entries from all Vesicular Stomatitis affected states. As of July 13th\, 2023\, California and Texas are the only states affected by Vesicular Stomatitis.
URL:https://www.indianadressage.org/event/indiana-dressage-festival-i-ii-2023/
LOCATION:Hoosier Horse Park\, 7105 South Kern Street\, Nineveh\, IN\, 46164\, United States
CATEGORIES:Shows
END:VEVENT
END:VCALENDAR