BEGIN:VCALENDAR
VERSION:2.0
PRODID:-//Indiana Dressage Society - ECPv6.15.20//NONSGML v1.0//EN
CALSCALE:GREGORIAN
METHOD:PUBLISH
X-WR-CALNAME:Indiana Dressage Society
X-ORIGINAL-URL:https://www.indianadressage.org
X-WR-CALDESC:Events for Indiana Dressage Society
REFRESH-INTERVAL;VALUE=DURATION:PT1H
X-Robots-Tag:noindex
X-PUBLISHED-TTL:PT1H
BEGIN:VTIMEZONE
TZID:America/Indiana/Indianapolis
BEGIN:DAYLIGHT
TZOFFSETFROM:-0500
TZOFFSETTO:-0400
TZNAME:EDT
DTSTART:20220313T070000
END:DAYLIGHT
BEGIN:STANDARD
TZOFFSETFROM:-0400
TZOFFSETTO:-0500
TZNAME:EST
DTSTART:20221106T060000
END:STANDARD
BEGIN:DAYLIGHT
TZOFFSETFROM:-0500
TZOFFSETTO:-0400
TZNAME:EDT
DTSTART:20230312T070000
END:DAYLIGHT
BEGIN:STANDARD
TZOFFSETFROM:-0400
TZOFFSETTO:-0500
TZNAME:EST
DTSTART:20231105T060000
END:STANDARD
BEGIN:DAYLIGHT
TZOFFSETFROM:-0500
TZOFFSETTO:-0400
TZNAME:EDT
DTSTART:20240310T070000
END:DAYLIGHT
BEGIN:STANDARD
TZOFFSETFROM:-0400
TZOFFSETTO:-0500
TZNAME:EST
DTSTART:20241103T060000
END:STANDARD
END:VTIMEZONE
BEGIN:VEVENT
DTSTART;VALUE=DATE:20230708
DTEND;VALUE=DATE:20230710
DTSTAMP:20260426T001533
CREATED:20230314T182619Z
LAST-MODIFIED:20230314T182619Z
UID:3508-1688774400-1688947199@www.indianadressage.org
SUMMARY:Hoosier Horse Classic - AHA Value Show
DESCRIPTION:July 8 is the Sport Horse Show and July 9 is the dressage show.  If a class is not designated All Breed the it is AR/HA/AA \n  \nPrize List\nClass Schedule\nEntry Form
URL:https://www.indianadressage.org/event/hoosier-horse-classic-aha-value-show/
LOCATION:Hoosier Horse Park\, 7105 South Kern Street\, Nineveh\, IN\, 46164\, United States
ORGANIZER;CN="Janice Decker":MAILTO:jandecker1@sbcglobal.net
END:VEVENT
BEGIN:VEVENT
DTSTART;VALUE=DATE:20230715
DTEND;VALUE=DATE:20230716
DTSTAMP:20260426T001533
CREATED:20221206T155749Z
LAST-MODIFIED:20230709T144232Z
UID:3391-1689379200-1689465599@www.indianadressage.org
SUMMARY:IDS July Schooling Show
DESCRIPTION:We’re looking forward to hosting you all for our sold-out IDS July Schooling Show on Saturday\, July 15th at the Hoosier Horse Park! You and your horse will get to experience a 3-ring show environment very similar to our rated shows\, but with a significantly cheaper price point. \nProvisional Schedule\nStall Chart & Campsites\nCompetitor Notes\nPrizelist\nLiability Waiver\nIDS July Schooling Show – Pictured: Christian Clark on Marcy Lewis’ D’Apiro. Photo by: Alicia Kuebler \n  \nVolunteers Needed\nHorse shows are only possible with the help of our dedicated volunteers. If you enjoy shows\, please consider volunteering! And if you are showing\, please remember to thank all the volunteers who make it all possible!\nView Current Volunteers\nSign Up to Volunteer
URL:https://www.indianadressage.org/event/ids-july-schooling-show-2023/
LOCATION:Hoosier Horse Park\, 7105 South Kern Street\, Nineveh\, IN\, 46164\, United States
CATEGORIES:Shows
END:VEVENT
BEGIN:VEVENT
DTSTART;TZID=America/Indiana/Indianapolis:20230717T193000
DTEND;TZID=America/Indiana/Indianapolis:20230717T203000
DTSTAMP:20260426T001533
CREATED:20230701T175443Z
LAST-MODIFIED:20230701T181441Z
UID:3660-1689622200-1689625800@www.indianadressage.org
SUMMARY:IDS Webcast: Ride Better with Positive Reinforcement - Presented by MaryKay Hasseman
DESCRIPTION:The Indiana Dressage Society continues its education webinar series\, at no charge to current IDS members. Non-members may audit the program for $20. All participants should register using the form below. \n \n  \nRegister to Attend\n 
URL:https://www.indianadressage.org/event/ride-better-with-positive-reinforcement-presented-by-marykay-hasseman/
LOCATION:Zoom Webcast
CATEGORIES:Webcasts
END:VEVENT
END:VCALENDAR