BEGIN:VCALENDAR
VERSION:2.0
PRODID:-//Indiana Dressage Society - ECPv6.15.20//NONSGML v1.0//EN
CALSCALE:GREGORIAN
METHOD:PUBLISH
X-WR-CALNAME:Indiana Dressage Society
X-ORIGINAL-URL:https://www.indianadressage.org
X-WR-CALDESC:Events for Indiana Dressage Society
REFRESH-INTERVAL;VALUE=DURATION:PT1H
X-Robots-Tag:noindex
X-PUBLISHED-TTL:PT1H
BEGIN:VTIMEZONE
TZID:America/Indiana/Indianapolis
BEGIN:DAYLIGHT
TZOFFSETFROM:-0500
TZOFFSETTO:-0400
TZNAME:EDT
DTSTART:20190310T070000
END:DAYLIGHT
BEGIN:STANDARD
TZOFFSETFROM:-0400
TZOFFSETTO:-0500
TZNAME:EST
DTSTART:20191103T060000
END:STANDARD
BEGIN:DAYLIGHT
TZOFFSETFROM:-0500
TZOFFSETTO:-0400
TZNAME:EDT
DTSTART:20200308T070000
END:DAYLIGHT
BEGIN:STANDARD
TZOFFSETFROM:-0400
TZOFFSETTO:-0500
TZNAME:EST
DTSTART:20201101T060000
END:STANDARD
BEGIN:DAYLIGHT
TZOFFSETFROM:-0500
TZOFFSETTO:-0400
TZNAME:EDT
DTSTART:20210314T070000
END:DAYLIGHT
BEGIN:STANDARD
TZOFFSETFROM:-0400
TZOFFSETTO:-0500
TZNAME:EST
DTSTART:20211107T060000
END:STANDARD
END:VTIMEZONE
BEGIN:VEVENT
DTSTART;VALUE=DATE:20200920
DTEND;VALUE=DATE:20200921
DTSTAMP:20260424T092610
CREATED:20200826T133019Z
LAST-MODIFIED:20220916T025514Z
UID:2189-1600560000-1600646399@www.indianadressage.org
SUMMARY:Foundation Charity Horse Show
DESCRIPTION:
URL:https://www.indianadressage.org/event/foundation-charity-horse-show/
END:VEVENT
BEGIN:VEVENT
DTSTART;TZID=America/Indiana/Indianapolis:20200906T080000
DTEND;TZID=America/Indiana/Indianapolis:20200906T170000
DTSTAMP:20260424T092610
CREATED:20200515T161948Z
LAST-MODIFIED:20220916T025522Z
UID:1994-1599379200-1599411600@www.indianadressage.org
SUMMARY:DHS Fall Horse Trials
DESCRIPTION:PrizeList\n 
URL:https://www.indianadressage.org/event/dhs-fall-horse-trials/
LOCATION:Dan Hobyn Stables\, 704 N. Mathews Rd.\, Greenwood\, IN\, 46143\, United States
ORGANIZER;CN="Dannette Morgan":MAILTO:dannettemorgan@aol.com
END:VEVENT
BEGIN:VEVENT
DTSTART;TZID=America/Indiana/Indianapolis:20200823T080000
DTEND;TZID=America/Indiana/Indianapolis:20200823T170000
DTSTAMP:20260424T092610
CREATED:20200801T173605Z
LAST-MODIFIED:20220916T024808Z
UID:2136-1598169600-1598202000@www.indianadressage.org
SUMMARY:Shrine Charity Horse Show
DESCRIPTION:
URL:https://www.indianadressage.org/event/2020-shrine-charity-horse-show/
LOCATION:Mizpah Shrine Horse Show Grounds\, 985 IN-9\, Columbia City\, IN\, 46725\, United States
END:VEVENT
BEGIN:VEVENT
DTSTART;VALUE=DATE:20200815
DTEND;VALUE=DATE:20200817
DTSTAMP:20260424T092610
CREATED:20180701T002717Z
LAST-MODIFIED:20220916T025653Z
UID:609-1597449600-1597622399@www.indianadressage.org
SUMMARY:Indy Dressage Festival I & II
DESCRIPTION:After a successful return to competition at the IDS July Schooling Show\, we’ve validated our health and safety protocols. \nNow we’re excited to return to rated shows with the Indy Dressage Festival I & II which will be the only USEF/USDF-rated shows in Indiana in 2020. \nGet your entries in soon\, because the show looks like it will likely sell out. Closing date is Friday\, August 7th (even though the Prizelist linked below states it closes earlier). \n2020 IDF I Results\n2020 IDF II Results\n2020 High Percentage Results\n2020 PrizeList\nSHOW PROGRAM\nSTABLING\n2019 SHOW RESULTS \n2019 IDF I SHOW RESULTS\n2019 IDF II SHOW RESULTS\n  \n  \n 
URL:https://www.indianadressage.org/event/2020-indy-dressage-festival/
LOCATION:Hoosier Horse Park\, 7105 South Kern Street\, Nineveh\, IN\, 46164\, United States
CATEGORIES:IDS Approved,Shows
ORGANIZER;CN="Bonna McCuiston":MAILTO:bonna@volte.org
END:VEVENT
BEGIN:VEVENT
DTSTART;VALUE=DATE:20200724
DTEND;VALUE=DATE:20200727
DTSTAMP:20260424T092610
CREATED:20200213T192715Z
LAST-MODIFIED:20220916T025702Z
UID:1902-1595548800-1595807999@www.indianadressage.org
SUMMARY:Jeff Moore Clinic - Cancelled
DESCRIPTION:Unfortunately Mr. Moore was unable to travel due to the pandemic\, so this clinic has been cancelled. \nEntry Form\n 
URL:https://www.indianadressage.org/event/jeff-moore-clinic/
LOCATION:Fishback Creek Farm\, 7867 S. Retriever Lane\, Zionsville\, IN\, 46077\, United States
CATEGORIES:Clinics
ORGANIZER;CN="Bonna McCuiston":MAILTO:bonna@volte.org
END:VEVENT
BEGIN:VEVENT
DTSTART;VALUE=DATE:20200719
DTEND;VALUE=DATE:20200720
DTSTAMP:20260424T092610
CREATED:20180614T035533Z
LAST-MODIFIED:20220916T025709Z
UID:363-1595116800-1595203199@www.indianadressage.org
SUMMARY:July Schooling Show
DESCRIPTION:We’re looking forward to seeing you and your horse at the IDS Schooling Show on Sunday\, July 19th. The show is scheduled\, stall chart is complete\, and we’ve made lots of upgrades to the process to ensure the safety of everyone involved. All the info you’ll need is listed below. \nCompetitor Notes\nDay Sheet\nRider Schedule\nStall Chart\nBlack Horse One – eDressage Tutorial\nCOVID-19 Protocol\nJuly 19th Schooling Show Prizelist\n2020 Results\nResults from Previous Years:\n2019 Results
URL:https://www.indianadressage.org/event/july-schooling-show/
LOCATION:Hoosier Horse Park\, 7105 South Kern Street\, Nineveh\, IN\, 46164\, United States
CATEGORIES:IDS Approved,Shows
END:VEVENT
BEGIN:VEVENT
DTSTART;VALUE=DATE:20200627
DTEND;VALUE=DATE:20200628
DTSTAMP:20260424T092610
CREATED:20200213T191416Z
LAST-MODIFIED:20220916T025717Z
UID:1894-1593216000-1593302399@www.indianadressage.org
SUMMARY:Alliance Equestrian Schooling Show
DESCRIPTION:This event was rescheduled from its original date of April 11th.
URL:https://www.indianadressage.org/event/alliance-equestrian-schooling-show/
LOCATION:Alliance Equestrian Center\, 2400 N County Road 725 W\, Yorktown\, IN\, 47396\, United States
CATEGORIES:IDS Approved,Shows
ORGANIZER;CN="Allison Whisler":MAILTO:whislerequestrianservices@yahoo.com
END:VEVENT
BEGIN:VEVENT
DTSTART;TZID=America/Indiana/Indianapolis:20200622T190000
DTEND;TZID=America/Indiana/Indianapolis:20200622T200000
DTSTAMP:20260424T092610
CREATED:20200605T190208Z
LAST-MODIFIED:20220916T023958Z
UID:2064-1592852400-1592856000@www.indianadressage.org
SUMMARY:Webcast: Equinosis Gait Analysis
DESCRIPTION:Please join IDS for a live webcast and Q&A session on the new Equinosis Gait Analysis – a new biomechanical care platform that helps your veterinarian monitor your horse’s gaits. The system is not intended to replace the extensive experience and physical examination provided by your veterinarian\, but helps to confirm\, pinpoint\, and quantify lameness. Many owners are having their competition horses evaluated\, thus setting a baseline for comparison should issues develop. \nLearning objectives for the webcast:\n• What is lameness?\n• How do we detect lameness?\n• What are the benefits of using objective data vs subjective visual assessment to measure lameness? \nThe fee for this event is $25\, but IDS members can attend free of charge so be sure to renew or join IDS to receive your complimentary webcast invitation. \nSign Up for Webcast
URL:https://www.indianadressage.org/event/webcast-equinosis-gait-analysis/
LOCATION:Zoom Webcast
ORGANIZER;CN="Ken Levy":MAILTO:kenl330@yahoo.com
END:VEVENT
BEGIN:VEVENT
DTSTART;TZID=America/Indiana/Indianapolis:20200611T190000
DTEND;TZID=America/Indiana/Indianapolis:20200611T203000
DTSTAMP:20260424T092610
CREATED:20200529T121505Z
LAST-MODIFIED:20200605T185820Z
UID:2027-1591902000-1591907400@www.indianadressage.org
SUMMARY:Webcast: Trailer Safety and Maintenance
DESCRIPTION:Please join IDS for a live webcast and Q & A session on Trailer Safety and Maintenance with Robin Ridgeway\, a recognized expert on this topic. You’ll gain an understanding of the interconnected safety systems and ratings\, learn how to perform a proper inspection of your rig each time you use it\, plus ongoing maintenance best practices. \nYour horse depends on you! \nThe fee for this event is $25\, but IDS members can attend free of charge so be sure to renew or join IDS to receive your\ncomplimentary webcast invitation. \nTrailer Safety and Maintenance Flyer\nSign Up for Webcast
URL:https://www.indianadressage.org/event/trailer-safety-and-maintenance-webcast/
LOCATION:Zoom Webcast
CATEGORIES:Clinics,IDS Approved
END:VEVENT
BEGIN:VEVENT
DTSTART;VALUE=DATE:20200606
DTEND;VALUE=DATE:20200608
DTSTAMP:20260424T092610
CREATED:20181204T175538Z
LAST-MODIFIED:20220916T025729Z
UID:1185-1591401600-1591574399@www.indianadressage.org
SUMMARY:Indy Dressage Classic I & II (cancelled)
DESCRIPTION:Due to the ongoing COVID-19 pandemic\, IDS has cancelled the 2020 Indy Dressage Classic I & II scheduled for June 6-7. \n2019 HIGH POINT\n2019 DAY I RESULTS\n2019 DAY II RESULTS\nPrize List\n 
URL:https://www.indianadressage.org/event/indy-dressage-classic-i-ii/
LOCATION:Hoosier Horse Park\, 7105 South Kern Street\, Nineveh\, IN\, 46164\, United States
CATEGORIES:IDS Approved,Shows
ORGANIZER;CN="Bonna McCuiston":MAILTO:bonna@volte.org
END:VEVENT
END:VCALENDAR