BEGIN:VCALENDAR
VERSION:2.0
PRODID:-//Indiana Dressage Society - ECPv6.15.20//NONSGML v1.0//EN
CALSCALE:GREGORIAN
METHOD:PUBLISH
X-ORIGINAL-URL:https://www.indianadressage.org
X-WR-CALDESC:Events for Indiana Dressage Society
REFRESH-INTERVAL;VALUE=DURATION:PT1H
X-Robots-Tag:noindex
X-PUBLISHED-TTL:PT1H
BEGIN:VTIMEZONE
TZID:America/Indiana/Indianapolis
BEGIN:DAYLIGHT
TZOFFSETFROM:-0500
TZOFFSETTO:-0400
TZNAME:EDT
DTSTART:20200308T070000
END:DAYLIGHT
BEGIN:STANDARD
TZOFFSETFROM:-0400
TZOFFSETTO:-0500
TZNAME:EST
DTSTART:20201101T060000
END:STANDARD
BEGIN:DAYLIGHT
TZOFFSETFROM:-0500
TZOFFSETTO:-0400
TZNAME:EDT
DTSTART:20210314T070000
END:DAYLIGHT
BEGIN:STANDARD
TZOFFSETFROM:-0400
TZOFFSETTO:-0500
TZNAME:EST
DTSTART:20211107T060000
END:STANDARD
BEGIN:DAYLIGHT
TZOFFSETFROM:-0500
TZOFFSETTO:-0400
TZNAME:EDT
DTSTART:20220313T070000
END:DAYLIGHT
BEGIN:STANDARD
TZOFFSETFROM:-0400
TZOFFSETTO:-0500
TZNAME:EST
DTSTART:20221106T060000
END:STANDARD
BEGIN:DAYLIGHT
TZOFFSETFROM:-0500
TZOFFSETTO:-0400
TZNAME:EDT
DTSTART:20230312T070000
END:DAYLIGHT
BEGIN:STANDARD
TZOFFSETFROM:-0400
TZOFFSETTO:-0500
TZNAME:EST
DTSTART:20231105T060000
END:STANDARD
BEGIN:DAYLIGHT
TZOFFSETFROM:-0500
TZOFFSETTO:-0400
TZNAME:EDT
DTSTART:20240310T070000
END:DAYLIGHT
BEGIN:STANDARD
TZOFFSETFROM:-0400
TZOFFSETTO:-0500
TZNAME:EST
DTSTART:20241103T060000
END:STANDARD
BEGIN:DAYLIGHT
TZOFFSETFROM:-0500
TZOFFSETTO:-0400
TZNAME:EDT
DTSTART:20250309T070000
END:DAYLIGHT
BEGIN:STANDARD
TZOFFSETFROM:-0400
TZOFFSETTO:-0500
TZNAME:EST
DTSTART:20251102T060000
END:STANDARD
BEGIN:DAYLIGHT
TZOFFSETFROM:-0500
TZOFFSETTO:-0400
TZNAME:EDT
DTSTART:20260308T070000
END:DAYLIGHT
BEGIN:STANDARD
TZOFFSETFROM:-0400
TZOFFSETTO:-0500
TZNAME:EST
DTSTART:20261101T060000
END:STANDARD
END:VTIMEZONE
BEGIN:VEVENT
DTSTART;TZID=America/Indiana/Indianapolis:20250120T193000
DTEND;TZID=America/Indiana/Indianapolis:20250120T203000
DTSTAMP:20260423T193227
CREATED:20241125T160627Z
LAST-MODIFIED:20241213T124324Z
UID:4237-1737401400-1737405000@www.indianadressage.org
SUMMARY:Paralympic Gold Medalist Rebecca Hart Webinar
DESCRIPTION:The Indiana Dressage Society is honored to present a once in a lifetime webinar to hear from the best of the best\, international competitor and 3-time Para Olympic Gold Medalist\, Rebecca Hart!  Rebecca will be sharing her journey and fielding your questions in a virtual event available to all USDF members. \nThe webinar will be held on Monday\, January 20\, 2025 from 7:30pm – 8:30pm East Coast Time.
URL:https://www.indianadressage.org/event/paralympic-gold-medalist-rebecca-hart-webinar/
LOCATION:Zoom Webcast
CATEGORIES:Education,Webcasts
ORGANIZER;CN="Ken Levy":MAILTO:kenl330@yahoo.com
END:VEVENT
BEGIN:VEVENT
DTSTART;TZID=America/Indiana/Indianapolis:20230717T193000
DTEND;TZID=America/Indiana/Indianapolis:20230717T203000
DTSTAMP:20260423T193227
CREATED:20230701T175443Z
LAST-MODIFIED:20230701T181441Z
UID:3660-1689622200-1689625800@www.indianadressage.org
SUMMARY:IDS Webcast: Ride Better with Positive Reinforcement - Presented by MaryKay Hasseman
DESCRIPTION:The Indiana Dressage Society continues its education webinar series\, at no charge to current IDS members. Non-members may audit the program for $20. All participants should register using the form below. \n \n  \nRegister to Attend\n 
URL:https://www.indianadressage.org/event/ride-better-with-positive-reinforcement-presented-by-marykay-hasseman/
LOCATION:Zoom Webcast
CATEGORIES:Webcasts
END:VEVENT
BEGIN:VEVENT
DTSTART;TZID=America/Indiana/Indianapolis:20230515T193000
DTEND;TZID=America/Indiana/Indianapolis:20230515T203000
DTSTAMP:20260423T193228
CREATED:20230320T213523Z
LAST-MODIFIED:20230320T214604Z
UID:3539-1684179000-1684182600@www.indianadressage.org
SUMMARY:IDS Webcast: Basic Clicker Training for Horses presented by Peggy Hogan
DESCRIPTION:Clicker training is a proven\, positive method of working with animals of all kinds. Most well known in the dog training community\, clicker training has evolved to work for zoos\, animal behaviorists\, entertainment\, and in service animals. Clicker or marker training harnesses the animals’ intellect and helps trainers reward desirable behaviors. \nThis presentation will help you understand how you can incorporate clicker training into your daily routine for things like husbandry\, loading\, liberty work\, and a host of other activities you may need to address with your horse. \nThe Indiana Dressage Society continues its education webinar series\, at no charge to current IDS members. Non-members may audit the program for $20. All participants should register using the form below. \n  \nRegister to Attend\n 
URL:https://www.indianadressage.org/event/basic-clicker-training-for-horses-presented-by-peggy-hogan/
LOCATION:Zoom Webcast
CATEGORIES:Webcasts
END:VEVENT
BEGIN:VEVENT
DTSTART;TZID=America/Indiana/Indianapolis:20230417T200000
DTEND;TZID=America/Indiana/Indianapolis:20230417T210000
DTSTAMP:20260423T193228
CREATED:20230320T194550Z
LAST-MODIFIED:20230320T201317Z
UID:3527-1681761600-1681765200@www.indianadressage.org
SUMMARY:IDS Webcast: Rider Emergencies...When Seconds Matter presented by Gwen Ka'awaloa
DESCRIPTION:Even on calm days\, the unexpected can happen. Our normally placid equine partner becomes startled or spooks at the cat down the road. How do we safely maneuver through rider emergencies? Learn from the superbly qualified Gwen Ka’awaloa. \nJoin us Monday\, April 17th\, at 8:00PM and learn from the best with Gwen! \nGwen Ka’awaloa is a USEF ‘S’ Dressage\, a ‘R’ DSHB JUDGE\, and a USDF Certified Instructor\, Training thru Fourth Level. She has earned her USDF Bronze\, Silver and Gold Rider Medals. Gwen is currently employed at Parker Adventist Hospital\, as a Critical Care Tech in the Emergency Department after her retirement of 12 years as a Volunteer Fire Fighter with the Elizabeth Fire Department. \nAt the 2022 USDF Annual Meeting\, Gwen was an invited speaker where she spoke on how to handle rider related accidents. Her presentation was widely acclaimed and summarized in the January issue of the USDF Connection Magazine. \nThe Indiana Dressage Society continues its education webinar series\, at no charge to current IDS members. Non-members may audit the program for $20. All participants should register using the form below. \n  \nRegister to Attend\n 
URL:https://www.indianadressage.org/event/rider-emergencies-when-seconds-matter/
LOCATION:Zoom Webcast
CATEGORIES:Webcasts
ORGANIZER;CN="Ken Levy":MAILTO:kenl330@yahoo.com
END:VEVENT
BEGIN:VEVENT
DTSTART;TZID=America/Indiana/Indianapolis:20230220T200000
DTEND;TZID=America/Indiana/Indianapolis:20230220T210000
DTSTAMP:20260423T193228
CREATED:20230201T141341Z
LAST-MODIFIED:20230201T150135Z
UID:3418-1676923200-1676926800@www.indianadressage.org
SUMMARY:IDS Webcast: Riding in Perfect Harmony with Dr. Hilary Clayton
DESCRIPTION:The best riding experience happens when you and the horse move as one. This comes from perfect balance and communication\, connecting two minds and bodies. With skill and awareness\, and an understanding of biomechanics\, we can make the most of the beautiful interaction between horse and rider. Please join us on February 20th at 8pm as Dr. Hilary Clayton presents the IDS Webcast: Riding in Perfect Harmony on Zoom. \nThe Indiana Dressage Society continues its education webinar series\, at no charge to current IDS members. Non-members may audit the program for $20. \n  \nRegister to Attend\n 
URL:https://www.indianadressage.org/event/ids-webcast-riding-in-perfect-harmony-with-dr-hilary-clayton/
LOCATION:Zoom Webcast
CATEGORIES:Webcasts
ORGANIZER;CN="Ken Levy":MAILTO:kenl330@yahoo.com
END:VEVENT
BEGIN:VEVENT
DTSTART;TZID=America/Indiana/Indianapolis:20220404T200000
DTEND;TZID=America/Indiana/Indianapolis:20220404T210000
DTSTAMP:20260423T193228
CREATED:20220308T044501Z
LAST-MODIFIED:20220916T031231Z
UID:3056-1649102400-1649106000@www.indianadressage.org
SUMMARY:IDS Webcast: Equine Acupuncture and Alternative Therapies with Dr. Janelle Renschler
DESCRIPTION:Register
URL:https://www.indianadressage.org/event/ids-webcast-equine-acupuncture-and-alternative-therapies-with-dr-janelle-renschler/
LOCATION:Zoom Webcast
CATEGORIES:Webcasts
ORGANIZER;CN="Ken Levy":MAILTO:kenl330@yahoo.com
END:VEVENT
BEGIN:VEVENT
DTSTART;TZID=America/Indiana/Indianapolis:20220321T200000
DTEND;TZID=America/Indiana/Indianapolis:20220321T210000
DTSTAMP:20260423T193228
CREATED:20220308T044054Z
LAST-MODIFIED:20220916T031239Z
UID:3053-1647892800-1647896400@www.indianadressage.org
SUMMARY:IDS Webcast: Preparing and Showing at USDF/USEF Recognized Dressage Shows with Jean Kraus
DESCRIPTION:Register
URL:https://www.indianadressage.org/event/ids-webcast-preparing-and-showing-at-usdf-usef-recognized-dressage-shows-with-jean-kraus/
LOCATION:Zoom Webcast
CATEGORIES:Webcasts
ORGANIZER;CN="Ken Levy":MAILTO:kenl330@yahoo.com
END:VEVENT
BEGIN:VEVENT
DTSTART;TZID=America/Indiana/Indianapolis:20210823T200000
DTEND;TZID=America/Indiana/Indianapolis:20210823T210000
DTSTAMP:20260423T193228
CREATED:20210626T163241Z
LAST-MODIFIED:20220916T030635Z
UID:2707-1629748800-1629752400@www.indianadressage.org
SUMMARY:Taste of the "L" Program - Session C
DESCRIPTION:THIS IS A MUST ATTEND EVENT for Dressage riders!\nThere will be three one-hour sessions. There is NO FEE to IDS members\, however registration is required. Registration fee for NON-IDS members is $30 for all three sessions. L Grads can earn three credits of CE by completing a quiz after all three sessions. \nTaste of Session A – August 9\, 8:00pm EDT\n\nRules\nHow to develop a score\nBiomechanics of the Parts of the Horse\nUsing Biomechanics to recognize the “BASICS” represented by Pyramid of Training\n\nTaste of Session B – August 16\, 8:00pm EDT\n\nThe purpose and criteria of Training-Second Levels\nAddressing the most important aspect or essence of each movement\nTreat modifiers correctly in scoring and comments\n\nTaste of Session C – August 23\, 8:00pm EDT\n\nCollective Marks\nGaits\, Impulsion\, Submission\, Position and Seat of the Rider\nCorrect and Effective Use of Aids\nJudging Freestyles\nHarmony\, Choreography\, Degree of Difficulty\, Music\, Interpretation\n\nWe are delighted to have the highly qualified Joan Darnell to lead this course. Joan is a USEF “S” Dressage Judge and a member of the USDF “L” Faculty\, USDF Judges Committee\, USDF Freestyle Committee and USEF Licensed Officials Working Group. She earned her USDF Bronze\, Silver and Gold Medals as well as the USDF Diamond Diploma for Continuing Education in the study of Dressage. Joan resides in Olympia\, Washington with her husband Greg and their four dogs\, one cat and three horses. \nRegister for Taste of the “L” Program with Joan Darnell\nFor additional information or questions\, contact Ken Levy (IDS Vice President and Education Committee Chair) at: kenl330@yahoo.com.
URL:https://www.indianadressage.org/event/taste-of-the-l-program-session-c/
LOCATION:Zoom Webcast
CATEGORIES:Webcasts
ORGANIZER;CN="Ken Levy":MAILTO:kenl330@yahoo.com
END:VEVENT
BEGIN:VEVENT
DTSTART;TZID=America/Indiana/Indianapolis:20210816T200000
DTEND;TZID=America/Indiana/Indianapolis:20210816T210000
DTSTAMP:20260423T193228
CREATED:20210626T163200Z
LAST-MODIFIED:20220916T030656Z
UID:2705-1629144000-1629147600@www.indianadressage.org
SUMMARY:Taste of the "L" Program - Session B
DESCRIPTION:THIS IS A MUST ATTEND EVENT for Dressage riders!\nThere will be three one-hour sessions. There is NO FEE to IDS members\, however registration is required. Registration fee for NON-IDS members is $30 for all three sessions. L Grads can earn three credits of CE by completing a quiz after all three sessions. \nTaste of Session A – August 9\, 8:00pm EDT\n\nRules\nHow to develop a score\nBiomechanics of the Parts of the Horse\nUsing Biomechanics to recognize the “BASICS” represented by Pyramid of Training\n\nTaste of Session B – August 16\, 8:00pm EDT\n\nThe purpose and criteria of Training-Second Levels\nAddressing the most important aspect or essence of each movement\nTreat modifiers correctly in scoring and comments\n\nTaste of Session C – August 23\, 8:00pm EDT\n\nCollective Marks\nGaits\, Impulsion\, Submission\, Position and Seat of the Rider\nCorrect and Effective Use of Aids\nJudging Freestyles\nHarmony\, Choreography\, Degree of Difficulty\, Music\, Interpretation\n\nWe are delighted to have the highly qualified Joan Darnell to lead this course. Joan is a USEF “S” Dressage Judge and a member of the USDF “L” Faculty\, USDF Judges Committee\, USDF Freestyle Committee and USEF Licensed Officials Working Group. She earned her USDF Bronze\, Silver and Gold Medals as well as the USDF Diamond Diploma for Continuing Education in the study of Dressage. Joan resides in Olympia\, Washington with her husband Greg and their four dogs\, one cat and three horses. \nFor additional information or questions\, contact Ken Levy (IDS Vice President and Education Committee Chair) at: kenl330@yahoo.com.
URL:https://www.indianadressage.org/event/taste-of-the-l-program-session-b/
LOCATION:Zoom Webcast
CATEGORIES:Webcasts
ORGANIZER;CN="Ken Levy":MAILTO:kenl330@yahoo.com
END:VEVENT
BEGIN:VEVENT
DTSTART;TZID=America/Indiana/Indianapolis:20210809T200000
DTEND;TZID=America/Indiana/Indianapolis:20210809T210000
DTSTAMP:20260423T193228
CREATED:20210626T163105Z
LAST-MODIFIED:20220916T030705Z
UID:2703-1628539200-1628542800@www.indianadressage.org
SUMMARY:Taste of the "L" Program - Session A
DESCRIPTION:THIS IS A MUST ATTEND EVENT for Dressage riders!\nThere will be three one-hour sessions. There is NO FEE to IDS members\, however registration is required. Registration fee for NON-IDS members is $30 for all three sessions. L Grads can earn three credits of CE by completing a quiz after all three sessions. \nTaste of Session A – August 9\, 8:00pm EDT\n\nRules\nHow to develop a score\nBiomechanics of the Parts of the Horse\nUsing Biomechanics to recognize the “BASICS” represented by Pyramid of Training\n\nTaste of Session B – August 16\, 8:00pm EDT\n\nThe purpose and criteria of Training-Second Levels\nAddressing the most important aspect or essence of each movement\nTreat modifiers correctly in scoring and comments\n\nTaste of Session C – August 23\, 8:00pm EDT\n\nCollective Marks\nGaits\, Impulsion\, Submission\, Position and Seat of the Rider\nCorrect and Effective Use of Aids\nJudging Freestyles\nHarmony\, Choreography\, Degree of Difficulty\, Music\, Interpretation\n\nWe are delighted to have the highly qualified Joan Darnell to lead this course. Joan is a USEF “S” Dressage Judge and a member of the USDF “L” Faculty\, USDF Judges Committee\, USDF Freestyle Committee and USEF Licensed Officials Working Group. She earned her USDF Bronze\, Silver and Gold Medals as well as the USDF Diamond Diploma for Continuing Education in the study of Dressage. Joan resides in Olympia\, Washington with her husband Greg and their four dogs\, one cat and three horses. \nRegister for Taste of the “L” Program with Joan Darnell\nFor additional information or questions\, contact Ken Levy (IDS Vice President and Education Committee Chair) at: kenl330@yahoo.com.
URL:https://www.indianadressage.org/event/taste-of-the-l-program-session-a/
LOCATION:Zoom Webcast
CATEGORIES:Webcasts
ORGANIZER;CN="Ken Levy":MAILTO:kenl330@yahoo.com
END:VEVENT
BEGIN:VEVENT
DTSTART;TZID=America/Indiana/Indianapolis:20210524T200000
DTEND;TZID=America/Indiana/Indianapolis:20210524T210000
DTSTAMP:20260423T193228
CREATED:20210422T105216Z
LAST-MODIFIED:20220916T025242Z
UID:2568-1621886400-1621890000@www.indianadressage.org
SUMMARY:Webcast: Taking Control of Your Performance Anxiety with Clare Morrison
DESCRIPTION:
URL:https://www.indianadressage.org/event/webcast-taking-control-of-your-performance-anxiety-with-clare-morrison/
LOCATION:Zoom Webcast
CATEGORIES:Webcasts
END:VEVENT
END:VCALENDAR