BEGIN:VCALENDAR
VERSION:2.0
PRODID:-//Indiana Dressage Society - ECPv6.15.20//NONSGML v1.0//EN
CALSCALE:GREGORIAN
METHOD:PUBLISH
X-WR-CALNAME:Indiana Dressage Society
X-ORIGINAL-URL:https://www.indianadressage.org
X-WR-CALDESC:Events for Indiana Dressage Society
REFRESH-INTERVAL;VALUE=DURATION:PT1H
X-Robots-Tag:noindex
X-PUBLISHED-TTL:PT1H
BEGIN:VTIMEZONE
TZID:America/Indiana/Indianapolis
BEGIN:DAYLIGHT
TZOFFSETFROM:-0500
TZOFFSETTO:-0400
TZNAME:EDT
DTSTART:20190310T070000
END:DAYLIGHT
BEGIN:STANDARD
TZOFFSETFROM:-0400
TZOFFSETTO:-0500
TZNAME:EST
DTSTART:20191103T060000
END:STANDARD
BEGIN:DAYLIGHT
TZOFFSETFROM:-0500
TZOFFSETTO:-0400
TZNAME:EDT
DTSTART:20200308T070000
END:DAYLIGHT
BEGIN:STANDARD
TZOFFSETFROM:-0400
TZOFFSETTO:-0500
TZNAME:EST
DTSTART:20201101T060000
END:STANDARD
BEGIN:DAYLIGHT
TZOFFSETFROM:-0500
TZOFFSETTO:-0400
TZNAME:EDT
DTSTART:20210314T070000
END:DAYLIGHT
BEGIN:STANDARD
TZOFFSETFROM:-0400
TZOFFSETTO:-0500
TZNAME:EST
DTSTART:20211107T060000
END:STANDARD
BEGIN:DAYLIGHT
TZOFFSETFROM:-0500
TZOFFSETTO:-0400
TZNAME:EDT
DTSTART:20220313T070000
END:DAYLIGHT
BEGIN:STANDARD
TZOFFSETFROM:-0400
TZOFFSETTO:-0500
TZNAME:EST
DTSTART:20221106T060000
END:STANDARD
BEGIN:DAYLIGHT
TZOFFSETFROM:-0500
TZOFFSETTO:-0400
TZNAME:EDT
DTSTART:20230312T070000
END:DAYLIGHT
BEGIN:STANDARD
TZOFFSETFROM:-0400
TZOFFSETTO:-0500
TZNAME:EST
DTSTART:20231105T060000
END:STANDARD
END:VTIMEZONE
BEGIN:VEVENT
DTSTART;TZID=America/Indiana/Indianapolis:20220911T080000
DTEND;TZID=America/Indiana/Indianapolis:20220911T170000
DTSTAMP:20260423T163804
CREATED:20220301T205916Z
LAST-MODIFIED:20220916T031101Z
UID:3036-1662883200-1662915600@www.indianadressage.org
SUMMARY:Indiana Equine Foundation Charity Horse Show
DESCRIPTION:PrizeList\n 
URL:https://www.indianadressage.org/event/indiana-equine-foundation-charity-horse-show-2/
LOCATION:Boone County 4-H Fairgrounds\, 1300 E 100 S\, Lebanon\, IN\, 46052\, United States
CATEGORIES:IDS Approved,Shows
ORGANIZER;CN="Darla Bridges":MAILTO:redpegasusranch@hotmail.com
END:VEVENT
BEGIN:VEVENT
DTSTART;VALUE=DATE:20220820
DTEND;VALUE=DATE:20220822
DTSTAMP:20260423T163804
CREATED:20211008T112923Z
LAST-MODIFIED:20220916T031116Z
UID:2933-1660953600-1661126399@www.indianadressage.org
SUMMARY:Indiana Dressage Festival I & II
DESCRIPTION:Join us for our final USDF/USEF-rated show of the year\, the Indiana Dressage Festival I & II\, on August 20th & 21st at the Hoosier Horse Park. This is the last weekend of qualifying for the Great American/USDF Region 2 Dressage Championships\, so many of our competitors will be seeking to earn the qualifying scores from Tom Pouiln “S”\, Janye Ayres “S”\, and Paula Briney “r”. \nRide Times\nStall Chart & Campsites\nSponsor a Class\nVolunteer Saturday\nVolunteer Sunday\nPhoto: Jennifer Conour on Laurie Saldana-Rich’s Straight Horse De Millla. Photo By Alicia Kuebler / AK Photography. \nPrettyPony Braids by Sabrina. $40/horse.
URL:https://www.indianadressage.org/event/2022-indiana-dressage-festival-i-and-ii/
LOCATION:Hoosier Horse Park\, 7105 South Kern Street\, Nineveh\, IN\, 46164\, United States
CATEGORIES:Shows
ORGANIZER;CN="Deb Roccaforte":MAILTO:droccaforte@msn.com
END:VEVENT
BEGIN:VEVENT
DTSTART;VALUE=DATE:20220716
DTEND;VALUE=DATE:20220717
DTSTAMP:20260423T163804
CREATED:20211008T112819Z
LAST-MODIFIED:20220916T031124Z
UID:2931-1657929600-1658015999@www.indianadressage.org
SUMMARY:July Schooling Show
DESCRIPTION:We’re excited for the IDS July Schooling Show on Saturday\, July 16th at the Hoosier Horse Park. \nDay Sheet\nRider’s Schedule\nStall Charts & Campsites\nCompetitor Notes\nBlackHorse One’s eDressage Dashboard\nPrizelist\nElizabeth Hess on Spot the Difference at the May Schooling Show. Photo by Alicia Kuebler.
URL:https://www.indianadressage.org/event/2022-july-schooling-show/
LOCATION:Hoosier Horse Park\, 7105 South Kern Street\, Nineveh\, IN\, 46164\, United States
CATEGORIES:Shows
END:VEVENT
BEGIN:VEVENT
DTSTART;VALUE=DATE:20220611
DTEND;VALUE=DATE:20220613
DTSTAMP:20260423T163804
CREATED:20211008T112700Z
LAST-MODIFIED:20220916T031133Z
UID:2929-1654905600-1655078399@www.indianadressage.org
SUMMARY:Indy Dressage Classic I & II
DESCRIPTION:The 43rd annual Indy Dressage Classic I & II will be held June 11th & 13th\, 2022 at the Hoosier Horse Park in Edinburgh\, IN. \nThe Indy Classic is an Official Qualifying Competition for: \n\n2022 FEI North American Youth Championship\n2022 USEF Children Dressage National Championship\n2022 USEF Pony Rider Dressage National Championship\n2022 Adequan/USEF Junior Dressage National Championship\n2022 Horseware Ireland/USEF Young Rider National Championship\n2022 Adequan/USEF Young Adult ‘Bretina Cup’ Dressage National Championship\n2022 Markel/USEF Young and Developing Horse Dressage National Championships\n2022 FEI World Breeding Championships for Young Horses in Dressage (Five\, Six\, Seven Year Olds)\n2022 USEF Intermediaire I Dressage National Championship\n2022 USEF Grand Prix National Championship\n2022 Adequan/USEF Para Dressage National Championship\n2022 Great American/USDF Regional Championship\n\nSaturday Day Sheet\nSaturday Rider’s Schedule\nSunday Day Sheet\nSunday Rider’s Schedule\nStall Chart & Campsites\nPrizelist\nSponsor a Class\nPrettyPony Braids by Sabrina. $40/horse.
URL:https://www.indianadressage.org/event/2022-indy-dressage-classic-i-and-ii/
LOCATION:Hoosier Horse Park\, 7105 South Kern Street\, Nineveh\, IN\, 46164\, United States
CATEGORIES:Shows
ORGANIZER;CN="Deb Roccaforte":MAILTO:droccaforte@msn.com
END:VEVENT
BEGIN:VEVENT
DTSTART;VALUE=DATE:20220529
DTEND;VALUE=DATE:20220530
DTSTAMP:20260423T163804
CREATED:20220511T222735Z
LAST-MODIFIED:20220916T031144Z
UID:3153-1653782400-1653868799@www.indianadressage.org
SUMMARY:Dan Hobyn Stables May Schooling Show
DESCRIPTION:Prize List
URL:https://www.indianadressage.org/event/dan-hobyn-stables-may-schooling-show-2/
LOCATION:Dan Hobyn Stables\, 704 N. Mathews Rd.\, Greenwood\, IN\, 46143\, United States
CATEGORIES:IDS Approved,Shows
ORGANIZER;CN="Dannette Morgan":MAILTO:dannettemorgan@aol.com
END:VEVENT
BEGIN:VEVENT
DTSTART;TZID=America/Indiana/Indianapolis:20220528T080000
DTEND;TZID=America/Indiana/Indianapolis:20220528T170000
DTSTAMP:20260423T163804
CREATED:20220301T210149Z
LAST-MODIFIED:20220916T031152Z
UID:3038-1653724800-1653757200@www.indianadressage.org
SUMMARY:Alliance Equestrian Center Schooling Show
DESCRIPTION:
URL:https://www.indianadressage.org/event/alliance-equestrian-center-schooling-show-3/
LOCATION:Alliance Equestrian Center\, 2400 N County Road 725 W\, Yorktown\, IN\, 47396\, United States
CATEGORIES:IDS Approved,Shows
ORGANIZER;CN="Allison Whisler":MAILTO:whislerequestrianservices@yahoo.com
END:VEVENT
BEGIN:VEVENT
DTSTART;TZID=America/Indiana/Indianapolis:20220522T080000
DTEND;TZID=America/Indiana/Indianapolis:20220522T170000
DTSTAMP:20260423T163804
CREATED:20220301T205802Z
LAST-MODIFIED:20220916T031159Z
UID:3034-1653206400-1653238800@www.indianadressage.org
SUMMARY:Indiana Equine Foundation Charity Horse Show
DESCRIPTION:PrizeList\n 
URL:https://www.indianadressage.org/event/indiana-equine-foundation-charity-horse-show/
LOCATION:Boone County 4-H Fairgrounds\, 1300 E 100 S\, Lebanon\, IN\, 46052\, United States
CATEGORIES:IDS Approved,Shows
ORGANIZER;CN="Darla Bridges":MAILTO:redpegasusranch@hotmail.com
END:VEVENT
BEGIN:VEVENT
DTSTART;VALUE=DATE:20220507
DTEND;VALUE=DATE:20220508
DTSTAMP:20260423T163804
CREATED:20211008T112549Z
LAST-MODIFIED:20220916T031209Z
UID:2927-1651881600-1651967999@www.indianadressage.org
SUMMARY:May Schooling Show
DESCRIPTION:Kick off the summer 2022 show season at the IDS May Schooling Show! Join us on Saturday\, May 7th at the Hoosier Horse Park for the first show of our 2022 season. \nFriday Afternoon Ride-a-Test Clinic & eDressage Scribe Training\n11 riders are signed up for a unique Ride-a-Test clinic with USEF “r” judge Ken Levy judging then providing some quick feedback to improve the performance. \nHaven’t had a chance to learn what it’s like to be a scribe for a schooling or rated show? Then this is your opportunity to get your Black Horse eDressageScribe credentials! Join us from 4:00 to 6:45 pm on Friday\, May 6 during the Ride-a-Test clinic if you’d like to learn how to scribe.  \nSign Up to Learn To Scribe\nSign Up to Volunteer\nCompetitor Info\nCompetitor Notes\nDay Sheets\nRider Schedule\nStall Charts & Campsites\nFriday Ride-a-Test Clinic Schedule\nLive Scores\nBlackHorse One’s eDressage Dashboard\n  \n \nSunday Schooling Opportunity\nAny competitor may choose to stay over Saturday evening and use the HHP Dressage Complex for schooling on Sunday. Saturday evening stabling charges will apply\, but there is no cost to competitors to school on Sunday.
URL:https://www.indianadressage.org/event/2022-may-schooling-show/
LOCATION:Hoosier Horse Park\, 7105 South Kern Street\, Nineveh\, IN\, 46164\, United States
CATEGORIES:Shows
END:VEVENT
BEGIN:VEVENT
DTSTART;VALUE=DATE:20220423
DTEND;VALUE=DATE:20220424
DTSTAMP:20260423T163804
CREATED:20220308T044912Z
LAST-MODIFIED:20220916T031216Z
UID:3059-1650672000-1650758399@www.indianadressage.org
SUMMARY:Heartland Region Pony Club Combined Test and Dressage Show
DESCRIPTION:Join the first show on the Hoosier Horse Park calendar and support a great cause at the Heartland Region Pony Club Combined Test and Dressage Show. \nPrizelist / Online Entry is now available at:\nhttps://fs18.formsite.com/HRPCentry/ejlmnltfur/index.html
URL:https://www.indianadressage.org/event/heartland-region-pony-club-combined-test-and-dressage-show/
LOCATION:Hoosier Horse Park\, 7105 South Kern Street\, Nineveh\, IN\, 46164\, United States
CATEGORIES:IDS Approved,Shows
ORGANIZER;CN="Eron Owens":MAILTO:greystone.eowens@gmail.com
END:VEVENT
BEGIN:VEVENT
DTSTART;VALUE=DATE:20211007
DTEND;VALUE=DATE:20211011
DTSTAMP:20260423T163804
CREATED:20210305T113018Z
LAST-MODIFIED:20220916T023530Z
UID:2514-1633564800-1633910399@www.indianadressage.org
SUMMARY:USDF Region 2 Championships
DESCRIPTION:
URL:https://www.indianadressage.org/event/usdf-region-2-championships-2/
LOCATION:Kentucky Horse Park\, Lexington\, KY\, United States
CATEGORIES:Shows
END:VEVENT
BEGIN:VEVENT
DTSTART;VALUE=DATE:20210925
DTEND;VALUE=DATE:20210927
DTSTAMP:20260423T163804
CREATED:20201206T195326Z
LAST-MODIFIED:20220916T030204Z
UID:2370-1632528000-1632700799@www.indianadressage.org
SUMMARY:IDS Ride-Offs and Fall Schooling Show
DESCRIPTION:The IDS Ride-Offs & Fall Schooling Show is nearly hear. We’ve moved to a 2-day format with Championship classes spread across both Saturday and Sunday to accommodate everyone who qualified. \nStall Charts & Campsites\nDay Sheets\nRider’s Schedule\n \nPretty Pony Braids by Sabrina\nPurchase Video of Your Rides\n \nSign Up to Volunteer Saturday\nSign Up to Volunteer Sunday\n \nPrizelist\nQualified for Ride-Offs
URL:https://www.indianadressage.org/event/ids-ride-offs-and-fall-schooling-show/
LOCATION:Hoosier Horse Park\, 7105 South Kern Street\, Nineveh\, IN\, 46164\, United States
CATEGORIES:Shows
END:VEVENT
BEGIN:VEVENT
DTSTART;TZID=America/Indiana/Indianapolis:20210912T080000
DTEND;TZID=America/Indiana/Indianapolis:20210912T170000
DTSTAMP:20260423T163804
CREATED:20210227T143750Z
LAST-MODIFIED:20220916T030606Z
UID:2488-1631433600-1631466000@www.indianadressage.org
SUMMARY:IEF Charity Horse Show
DESCRIPTION:Indiana Equine Foundation’s Charity Horse Show is a Combined Test and Dressage Show at the Boone County 4-H Fairgrounds.
URL:https://www.indianadressage.org/event/ief-charity-horse-show-2/
LOCATION:Boone County 4-H Fairgrounds\, 1300 E 100 S\, Lebanon\, IN\, 46052\, United States
CATEGORIES:IDS Approved,Shows
ORGANIZER;CN="Darla Bridges":MAILTO:redpegasusranch@hotmail.com
END:VEVENT
BEGIN:VEVENT
DTSTART;VALUE=DATE:20210905
DTEND;VALUE=DATE:20210906
DTSTAMP:20260423T163804
CREATED:20210419T122122Z
LAST-MODIFIED:20220916T030619Z
UID:2564-1630800000-1630886399@www.indianadressage.org
SUMMARY:Dan Hobyn Fall Dressage & HT
DESCRIPTION:Prize List/Entry\n 
URL:https://www.indianadressage.org/event/dan-hobyn-fall-dressage-ht/
LOCATION:Dan Hobyn Stables\, 704 N. Mathews Rd.\, Greenwood\, IN\, 46143\, United States
CATEGORIES:IDS Approved,Shows
ORGANIZER;CN="Dannette Morgan":MAILTO:dannettemorgan@aol.com
END:VEVENT
BEGIN:VEVENT
DTSTART;TZID=America/Indiana/Indianapolis:20210828T080000
DTEND;TZID=America/Indiana/Indianapolis:20210828T170000
DTSTAMP:20260423T163804
CREATED:20210227T144148Z
LAST-MODIFIED:20220916T030626Z
UID:2492-1630137600-1630170000@www.indianadressage.org
SUMMARY:Alliance Equestrian Center Dressage Schooling Show
DESCRIPTION:
URL:https://www.indianadressage.org/event/alliance-equestrian-center-dressage-schooling-show-2/
LOCATION:Alliance Equestrian Center\, 2400 N County Road 725 W\, Yorktown\, IN\, 47396\, United States
CATEGORIES:IDS Approved,Shows
ORGANIZER;CN="Allison Whisler":MAILTO:whislerequestrianservices@yahoo.com
END:VEVENT
BEGIN:VEVENT
DTSTART;VALUE=DATE:20210822
DTEND;VALUE=DATE:20210823
DTSTAMP:20260423T163804
CREATED:20210715T131703Z
LAST-MODIFIED:20220916T030644Z
UID:2738-1629590400-1629676799@www.indianadressage.org
SUMMARY:Shrine Charity Horse Show
DESCRIPTION:Prize List\nEntry Form\n 
URL:https://www.indianadressage.org/event/shrine-charity-horse-show/
LOCATION:Mizpah Shrine Horse Show Grounds\, 985 IN-9\, Columbia City\, IN\, 46725\, United States
CATEGORIES:IDS Approved,Shows
ORGANIZER;CN="Leah Borders":MAILTO:lmborders21@yahoo.com
END:VEVENT
BEGIN:VEVENT
DTSTART;VALUE=DATE:20210821
DTEND;VALUE=DATE:20210823
DTSTAMP:20260423T163804
CREATED:20201206T195120Z
LAST-MODIFIED:20220916T023750Z
UID:2368-1629504000-1629676799@www.indianadressage.org
SUMMARY:Indiana Dressage Festival I & II
DESCRIPTION:  \nDeb Parent and Fhabiola – Photo by Alicia Kuebler \n  \nThe Indiana Dressage Festival I & II are the last USEF/USDF-rated shows in the state of Indiana this year. We’re pleased to announce we sold out two rings and expanded into a third ring. All the pertinent information is available in the buttons below. \n  \nIDF I – Saturday Schedule\nIDF II – Sunday Schedule\nStall Charts and Campsites\nPretty Pony Braids by Sabrina\nPurchase a Video of Your Ride\n \nPrize List\nSponsor a Class\nVolunteer\nSign Up to Volunteer Saturday\nSign Up to Volunteer Sunday\nPrevious Results\n2020 IDF I Results\n2020 IDF II Results\n2020 IDF High Point\n  \n2019 IDF I Results\n2019 IDF II Results\n  \n2018 IDF I Results\n2018 IDF II Results\n2018 IDF High Point
URL:https://www.indianadressage.org/event/indiana-dressage-festival-i-ii/
LOCATION:Hoosier Horse Park\, 7105 South Kern Street\, Nineveh\, IN\, 46164\, United States
CATEGORIES:Shows
END:VEVENT
BEGIN:VEVENT
DTSTART;VALUE=DATE:20210718
DTEND;VALUE=DATE:20210719
DTSTAMP:20260423T163804
CREATED:20201206T194940Z
LAST-MODIFIED:20220916T030409Z
UID:2366-1626566400-1626652799@www.indianadressage.org
SUMMARY:IDS July Schooling Show
DESCRIPTION:The July Schooling Show is the second of three schooling shows IDS runs each year. Here’s all the information you’ll need for the show weekend: \nCompetitor Notes\nStall Charts & Campsites\nDay Sheet\nRider’s Schedule\nSignup for a Video of Your Ride\nSign Up to Volunteer\nPrize List
URL:https://www.indianadressage.org/event/ids-july-schooling-show/
LOCATION:Hoosier Horse Park\, 7105 South Kern Street\, Nineveh\, IN\, 46164\, United States
CATEGORIES:Shows
END:VEVENT
BEGIN:VEVENT
DTSTART;TZID=America/Indiana/Indianapolis:20210619T080000
DTEND;TZID=America/Indiana/Indianapolis:20210619T170000
DTSTAMP:20260423T163804
CREATED:20210227T144003Z
LAST-MODIFIED:20220916T030722Z
UID:2490-1624089600-1624122000@www.indianadressage.org
SUMMARY:Alliance Equestrian Center Dressage Schooling Show
DESCRIPTION:
URL:https://www.indianadressage.org/event/alliance-equestrian-center-dressage-schooling-show/
LOCATION:Alliance Equestrian Center\, 2400 N County Road 725 W\, Yorktown\, IN\, 47396\, United States
CATEGORIES:IDS Approved,Shows
ORGANIZER;CN="Allison Whisler":MAILTO:whislerequestrianservices@yahoo.com
END:VEVENT
BEGIN:VEVENT
DTSTART;VALUE=DATE:20210612
DTEND;VALUE=DATE:20210614
DTSTAMP:20260423T163804
CREATED:20201206T194855Z
LAST-MODIFIED:20220916T030015Z
UID:2364-1623456000-1623628799@www.indianadressage.org
SUMMARY:Indy Dressage Classic I & II
DESCRIPTION:We’re looking forward to an excellent weekend of dressage at the 42nd Indy Dressage Classic! We’d like to thank our competitors\, volunteers\, officials\, and sponsors for making this show a success. \nPrize List\nStall Charts and Campsites\neDressage Dashboard to Download Tests\nSponsorship\n  \nSaturday Day Sheet\nSaturday Rider’s Schedule\nSaturday Menu – Porkopolis\nVolunteer Saturday\n  \nSunday Day Sheet\nSunday Rider’s Schedule\nSunday Menu – Serendipity\nVolunteer Sunday\n  \nWe’d also like to thank our sponsors: \n\nForrest Hill Farm & Kaiser Dressage of Lafayette\, IN\nChris Golightly – Realtor\, Plat Collective\nLegacy Farm Dressage\nForte’ Event Management\, Michael and Deb Roccaforte\, Owners\nChristina VanRyckeghem\nDebra Parent\n\nThe 42nd Annual Indy Dressage Classic I & II shows are now USEF Level 3 shows which means they are now Official Qualifying Competitions for: \n\n2021 Adequan FEI North American Youth Championships\n2021 USEF Children Dressage National Championships\n2021 USEF Pony Rider Dressage National Championships\n2021 USEF Junior and Young Rider Dressage Championships\n2021 USEF Young Adult ‘Brentina Cup’ Dressage National Championships\n2021 Markel/USEF Young and Developing Horse Dressage Championships\nA Qualifier for the 2021 Great American/USDF Regional Championships\n\n  \n  \n\nPrevious Results\n2019 IDC I Results\n2019 IDC II Results\n2019 IDC High Point
URL:https://www.indianadressage.org/event/indy-dressage-classic-i-ii-2/
LOCATION:Hoosier Horse Park\, 7105 South Kern Street\, Nineveh\, IN\, 46164\, United States
CATEGORIES:Shows
END:VEVENT
BEGIN:VEVENT
DTSTART;VALUE=DATE:20210530
DTEND;VALUE=DATE:20210531
DTSTAMP:20260423T163804
CREATED:20210419T122019Z
LAST-MODIFIED:20220916T025113Z
UID:2562-1622332800-1622419199@www.indianadressage.org
SUMMARY:Dan Hobyn Dressage\, CT & Event Derby
DESCRIPTION:Prize List/Entry\n 
URL:https://www.indianadressage.org/event/dan-hobyn-dressage-ct-event-derby/
LOCATION:Dan Hobyn Stables\, 704 N. Mathews Rd.\, Greenwood\, IN\, 46143\, United States
CATEGORIES:IDS Approved,Shows
ORGANIZER;CN="Dannette Morgan":MAILTO:dannettemorgan@aol.com
END:VEVENT
BEGIN:VEVENT
DTSTART;TZID=America/Indiana/Indianapolis:20210523T080000
DTEND;TZID=America/Indiana/Indianapolis:20210523T170000
DTSTAMP:20260423T163804
CREATED:20210227T143445Z
LAST-MODIFIED:20220916T025252Z
UID:2482-1621756800-1621789200@www.indianadressage.org
SUMMARY:IEF Charity Horse Show
DESCRIPTION:Indiana Equine Foundation’s Charity Horse Show is a Combined Test and Dressage Show at the Boone County 4-H Fairgrounds.
URL:https://www.indianadressage.org/event/ief-charity-horse-show/
LOCATION:Boone County 4-H Fairgrounds\, 1300 E 100 S\, Lebanon\, IN\, 46052\, United States
CATEGORIES:IDS Approved,Shows
ORGANIZER;CN="Darla Bridges":MAILTO:redpegasusranch@hotmail.com
END:VEVENT
BEGIN:VEVENT
DTSTART;VALUE=DATE:20210508
DTEND;VALUE=DATE:20210509
DTSTAMP:20260423T163804
CREATED:20201206T183355Z
LAST-MODIFIED:20220916T024614Z
UID:2350-1620432000-1620518399@www.indianadressage.org
SUMMARY:IDS May Schooling Show
DESCRIPTION:  \n\n\n\nThe our first show of the year sells out quickly every year. This show will open for entries on April 8th and will close no later than April 28th. \nCompetitor Notes\nDay Sheets\nRider Schedule\nStall Charts & Campsites\n  \nBuy a Video of Your Ride\nSign Up to Volunteer\nPrize List\n  \n 
URL:https://www.indianadressage.org/event/ids-may-schooling-show/
LOCATION:Hoosier Horse Park\, 7105 South Kern Street\, Nineveh\, IN\, 46164\, United States
CATEGORIES:Shows
END:VEVENT
BEGIN:VEVENT
DTSTART;TZID=America/Indiana/Indianapolis:20210417T080000
DTEND;TZID=America/Indiana/Indianapolis:20210417T170000
DTSTAMP:20260423T163804
CREATED:20210227T133305Z
LAST-MODIFIED:20220916T025320Z
UID:2478-1618646400-1618678800@www.indianadressage.org
SUMMARY:Heartland Combined Test
DESCRIPTION:Our local Heartland Region Pony Club runs one of the largest Combined Tests in the area each year in April. Heartland offers Combined Test classes as well as Dressage-only classes.
URL:https://www.indianadressage.org/event/heartland-combined-test-2/
LOCATION:Hoosier Horse Park\, 7105 South Kern Street\, Nineveh\, IN\, 46164\, United States
CATEGORIES:IDS Approved,Shows
ORGANIZER;CN="Eron Owens":MAILTO:greystone.eowens@gmail.com
END:VEVENT
BEGIN:VEVENT
DTSTART;VALUE=DATE:20201031
DTEND;VALUE=DATE:20201101
DTSTAMP:20260423T163804
CREATED:20200213T191637Z
LAST-MODIFIED:20220916T022652Z
UID:1896-1604102400-1604188799@www.indianadressage.org
SUMMARY:Alliance Equestrian Schooling Show
DESCRIPTION:Prize List \n 
URL:https://www.indianadressage.org/event/alliance-equestrian-schooling-show-2/
LOCATION:Alliance Equestrian Center\, 2400 N County Road 725 W\, Yorktown\, IN\, 47396\, United States
CATEGORIES:IDS Approved,Shows
ORGANIZER;CN="Allison Whisler":MAILTO:whislerequestrianservices@yahoo.com
END:VEVENT
BEGIN:VEVENT
DTSTART;VALUE=DATE:20200926
DTEND;VALUE=DATE:20200928
DTSTAMP:20260423T163804
CREATED:20180701T000411Z
LAST-MODIFIED:20220916T025456Z
UID:594-1601078400-1601251199@www.indianadressage.org
SUMMARY:IDS Fall Schooling Show and Ride-Offs
DESCRIPTION:We are so excited to see all of you this weekend for the IDS Ride-Offs & Fall Schooling Show. This will be the largest dressage schooling show ever in the State of Indiana! \nWe’re still operating under strict COVID-19 protocols\, so spectators are unfortunately not allowed. But if you just can’t miss the fun\, we could use a few more volunteers! \nCompetitor Notes \nSaturday Schedule \nSunday Schedule \nRider Schedule \nStabling and Camping \nVolunteer on Saturday \nVolunteer on Sunday \nSATURDAY RESULTS \nSUNDAY RESULTS \nIMPERIO RESULTS \n  \nPrevious Results: \n2019 Results \n  \n 
URL:https://www.indianadressage.org/event/ids-schooling-show-and-ride-offs/
LOCATION:Hoosier Horse Park\, 7105 South Kern Street\, Nineveh\, IN\, 46164\, United States
CATEGORIES:IDS Approved,Shows
END:VEVENT
BEGIN:VEVENT
DTSTART;VALUE=DATE:20200815
DTEND;VALUE=DATE:20200817
DTSTAMP:20260423T163804
CREATED:20180701T002717Z
LAST-MODIFIED:20220916T025653Z
UID:609-1597449600-1597622399@www.indianadressage.org
SUMMARY:Indy Dressage Festival I & II
DESCRIPTION:After a successful return to competition at the IDS July Schooling Show\, we’ve validated our health and safety protocols. \nNow we’re excited to return to rated shows with the Indy Dressage Festival I & II which will be the only USEF/USDF-rated shows in Indiana in 2020. \nGet your entries in soon\, because the show looks like it will likely sell out. Closing date is Friday\, August 7th (even though the Prizelist linked below states it closes earlier). \n2020 IDF I Results \n2020 IDF II Results \n2020 High Percentage Results \n2020 PrizeList \nSHOW PROGRAM \nSTABLING \n2019 SHOW RESULTS  \n2019 IDF I SHOW RESULTS \n2019 IDF II SHOW RESULTS \n  \n  \n 
URL:https://www.indianadressage.org/event/2020-indy-dressage-festival/
LOCATION:Hoosier Horse Park\, 7105 South Kern Street\, Nineveh\, IN\, 46164\, United States
CATEGORIES:IDS Approved,Shows
ORGANIZER;CN="Bonna McCuiston":MAILTO:bonna@volte.org
END:VEVENT
BEGIN:VEVENT
DTSTART;VALUE=DATE:20200719
DTEND;VALUE=DATE:20200720
DTSTAMP:20260423T163804
CREATED:20180614T035533Z
LAST-MODIFIED:20220916T025709Z
UID:363-1595116800-1595203199@www.indianadressage.org
SUMMARY:July Schooling Show
DESCRIPTION:We’re looking forward to seeing you and your horse at the IDS Schooling Show on Sunday\, July 19th. The show is scheduled\, stall chart is complete\, and we’ve made lots of upgrades to the process to ensure the safety of everyone involved. All the info you’ll need is listed below. \nCompetitor Notes \nDay Sheet \nRider Schedule \nStall Chart \nBlack Horse One – eDressage Tutorial \nCOVID-19 Protocol \nJuly 19th Schooling Show Prizelist \n2020 Results \nResults from Previous Years:\n2019 Results
URL:https://www.indianadressage.org/event/july-schooling-show/
LOCATION:Hoosier Horse Park\, 7105 South Kern Street\, Nineveh\, IN\, 46164\, United States
CATEGORIES:IDS Approved,Shows
END:VEVENT
BEGIN:VEVENT
DTSTART;VALUE=DATE:20200627
DTEND;VALUE=DATE:20200628
DTSTAMP:20260423T163804
CREATED:20200213T191416Z
LAST-MODIFIED:20220916T025717Z
UID:1894-1593216000-1593302399@www.indianadressage.org
SUMMARY:Alliance Equestrian Schooling Show
DESCRIPTION:This event was rescheduled from its original date of April 11th.
URL:https://www.indianadressage.org/event/alliance-equestrian-schooling-show/
LOCATION:Alliance Equestrian Center\, 2400 N County Road 725 W\, Yorktown\, IN\, 47396\, United States
CATEGORIES:IDS Approved,Shows
ORGANIZER;CN="Allison Whisler":MAILTO:whislerequestrianservices@yahoo.com
END:VEVENT
BEGIN:VEVENT
DTSTART;TZID=America/Indiana/Indianapolis:20200611T190000
DTEND;TZID=America/Indiana/Indianapolis:20200611T203000
DTSTAMP:20260423T163804
CREATED:20200529T121505Z
LAST-MODIFIED:20200605T185820Z
UID:2027-1591902000-1591907400@www.indianadressage.org
SUMMARY:Webcast: Trailer Safety and Maintenance
DESCRIPTION:Please join IDS for a live webcast and Q & A session on Trailer Safety and Maintenance with Robin Ridgeway\, a recognized expert on this topic. You’ll gain an understanding of the interconnected safety systems and ratings\, learn how to perform a proper inspection of your rig each time you use it\, plus ongoing maintenance best practices. \nYour horse depends on you! \nThe fee for this event is $25\, but IDS members can attend free of charge so be sure to renew or join IDS to receive your\ncomplimentary webcast invitation. \nTrailer Safety and Maintenance Flyer \nSign Up for Webcast
URL:https://www.indianadressage.org/event/trailer-safety-and-maintenance-webcast/
LOCATION:Zoom Webcast
CATEGORIES:Clinics,IDS Approved
END:VEVENT
BEGIN:VEVENT
DTSTART;VALUE=DATE:20200606
DTEND;VALUE=DATE:20200608
DTSTAMP:20260423T163804
CREATED:20181204T175538Z
LAST-MODIFIED:20220916T025729Z
UID:1185-1591401600-1591574399@www.indianadressage.org
SUMMARY:Indy Dressage Classic I & II (cancelled)
DESCRIPTION:Due to the ongoing COVID-19 pandemic\, IDS has cancelled the 2020 Indy Dressage Classic I & II scheduled for June 6-7. \n2019 HIGH POINT \n2019 DAY I RESULTS \n2019 DAY II RESULTS \nPrize List \n 
URL:https://www.indianadressage.org/event/indy-dressage-classic-i-ii/
LOCATION:Hoosier Horse Park\, 7105 South Kern Street\, Nineveh\, IN\, 46164\, United States
CATEGORIES:IDS Approved,Shows
ORGANIZER;CN="Bonna McCuiston":MAILTO:bonna@volte.org
END:VEVENT
END:VCALENDAR