BEGIN:VCALENDAR
VERSION:2.0
PRODID:-//Indiana Dressage Society - ECPv6.15.20//NONSGML v1.0//EN
CALSCALE:GREGORIAN
METHOD:PUBLISH
X-WR-CALNAME:Indiana Dressage Society
X-ORIGINAL-URL:https://www.indianadressage.org
X-WR-CALDESC:Events for Indiana Dressage Society
REFRESH-INTERVAL;VALUE=DURATION:PT1H
X-Robots-Tag:noindex
X-PUBLISHED-TTL:PT1H
BEGIN:VTIMEZONE
TZID:America/Indiana/Indianapolis
BEGIN:DAYLIGHT
TZOFFSETFROM:-0500
TZOFFSETTO:-0400
TZNAME:EDT
DTSTART:20250309T070000
END:DAYLIGHT
BEGIN:STANDARD
TZOFFSETFROM:-0400
TZOFFSETTO:-0500
TZNAME:EST
DTSTART:20251102T060000
END:STANDARD
BEGIN:DAYLIGHT
TZOFFSETFROM:-0500
TZOFFSETTO:-0400
TZNAME:EDT
DTSTART:20260308T070000
END:DAYLIGHT
BEGIN:STANDARD
TZOFFSETFROM:-0400
TZOFFSETTO:-0500
TZNAME:EST
DTSTART:20261101T060000
END:STANDARD
BEGIN:DAYLIGHT
TZOFFSETFROM:-0500
TZOFFSETTO:-0400
TZNAME:EDT
DTSTART:20270314T070000
END:DAYLIGHT
BEGIN:STANDARD
TZOFFSETFROM:-0400
TZOFFSETTO:-0500
TZNAME:EST
DTSTART:20271107T060000
END:STANDARD
END:VTIMEZONE
BEGIN:VEVENT
DTSTART;VALUE=DATE:20260606
DTEND;VALUE=DATE:20260608
DTSTAMP:20260423T193110
CREATED:20251022T175847Z
LAST-MODIFIED:20260326T141230Z
UID:4508-1780704000-1780876799@www.indianadressage.org
SUMMARY:Indy Dressage Classic I & II
DESCRIPTION:Judges: Margaret Freeman “S” (CT)\, Joan Darnell “S” (WA)\, Fatima Pawlenko-Kranz “R” (IL)\nTD: Carolyn Borgert “R” (KY)
URL:https://www.indianadressage.org/event/2026-indy-dressage-classic-i-ii/
LOCATION:Hoosier Horse Park\, 7105 South Kern Street\, Nineveh\, IN\, 46164\, United States
CATEGORIES:Shows
END:VEVENT
BEGIN:VEVENT
DTSTART;VALUE=DATE:20260627
DTEND;VALUE=DATE:20260628
DTSTAMP:20260423T193110
CREATED:20260226T004708Z
LAST-MODIFIED:20260226T004846Z
UID:4623-1782518400-1782604799@www.indianadressage.org
SUMMARY:Alliance Equestrian June Schooling Show
DESCRIPTION:
URL:https://www.indianadressage.org/event/alliance-equestrian-schooling-show-3/
LOCATION:Alliance Equestrian Center\, 2400 N County Road 725 W\, Yorktown\, IN\, 47396\, United States
CATEGORIES:IDS Approved,Shows
ORGANIZER;CN="Allison Whisler":MAILTO:whislerequestrianservices@yahoo.com
END:VEVENT
END:VCALENDAR