BEGIN:VCALENDAR
VERSION:2.0
PRODID:-//Indiana Dressage Society - ECPv6.15.20//NONSGML v1.0//EN
CALSCALE:GREGORIAN
METHOD:PUBLISH
X-WR-CALNAME:Indiana Dressage Society
X-ORIGINAL-URL:https://www.indianadressage.org
X-WR-CALDESC:Events for Indiana Dressage Society
REFRESH-INTERVAL;VALUE=DURATION:PT1H
X-Robots-Tag:noindex
X-PUBLISHED-TTL:PT1H
BEGIN:VTIMEZONE
TZID:America/Indiana/Indianapolis
BEGIN:DAYLIGHT
TZOFFSETFROM:-0500
TZOFFSETTO:-0400
TZNAME:EDT
DTSTART:20240310T070000
END:DAYLIGHT
BEGIN:STANDARD
TZOFFSETFROM:-0400
TZOFFSETTO:-0500
TZNAME:EST
DTSTART:20241103T060000
END:STANDARD
BEGIN:DAYLIGHT
TZOFFSETFROM:-0500
TZOFFSETTO:-0400
TZNAME:EDT
DTSTART:20250309T070000
END:DAYLIGHT
BEGIN:STANDARD
TZOFFSETFROM:-0400
TZOFFSETTO:-0500
TZNAME:EST
DTSTART:20251102T060000
END:STANDARD
BEGIN:DAYLIGHT
TZOFFSETFROM:-0500
TZOFFSETTO:-0400
TZNAME:EDT
DTSTART:20260308T070000
END:DAYLIGHT
BEGIN:STANDARD
TZOFFSETFROM:-0400
TZOFFSETTO:-0500
TZNAME:EST
DTSTART:20261101T060000
END:STANDARD
END:VTIMEZONE
BEGIN:VEVENT
DTSTART;VALUE=DATE:20250809
DTEND;VALUE=DATE:20250811
DTSTAMP:20260424T064311
CREATED:20241125T155944Z
LAST-MODIFIED:20250806T024133Z
UID:4233-1754697600-1754870399@www.indianadressage.org
SUMMARY:Indiana Dressage Festival I & II
DESCRIPTION:We’re looking forward to a great weekend of competition at the Indiana Dressage Festival I & II this weekend\, August 9th and 10th\, at the Hoosier Horse Park! \nJudges: Beverly Rogers “S” (AZ)\, Sara Schmitt “S” (NJ)\, and Sophie Bayer “R” (KY) \nSchedule / Live Scores – Indiana Dressage Festival I (Sat)\nSchedule / Live Scores – Indiana Dressage Festival II (Sun)\nStall Chart & Campsites\nPrizelist\nVolunteer\nSafe Sport / MAAPP Letter
URL:https://www.indianadressage.org/event/2025-indiana-dressage-festival-i-ii/
LOCATION:Hoosier Horse Park\, 7105 South Kern Street\, Nineveh\, IN\, 46164\, United States
CATEGORIES:Shows
END:VEVENT
END:VCALENDAR