BEGIN:VCALENDAR
VERSION:2.0
PRODID:-//Indiana Dressage Society - ECPv6.15.20//NONSGML v1.0//EN
CALSCALE:GREGORIAN
METHOD:PUBLISH
X-ORIGINAL-URL:https://www.indianadressage.org
X-WR-CALDESC:Events for Indiana Dressage Society
REFRESH-INTERVAL;VALUE=DURATION:PT1H
X-Robots-Tag:noindex
X-PUBLISHED-TTL:PT1H
BEGIN:VTIMEZONE
TZID:America/Indiana/Indianapolis
BEGIN:DAYLIGHT
TZOFFSETFROM:-0500
TZOFFSETTO:-0400
TZNAME:EDT
DTSTART:20240310T070000
END:DAYLIGHT
BEGIN:STANDARD
TZOFFSETFROM:-0400
TZOFFSETTO:-0500
TZNAME:EST
DTSTART:20241103T060000
END:STANDARD
BEGIN:DAYLIGHT
TZOFFSETFROM:-0500
TZOFFSETTO:-0400
TZNAME:EDT
DTSTART:20250309T070000
END:DAYLIGHT
BEGIN:STANDARD
TZOFFSETFROM:-0400
TZOFFSETTO:-0500
TZNAME:EST
DTSTART:20251102T060000
END:STANDARD
BEGIN:DAYLIGHT
TZOFFSETFROM:-0500
TZOFFSETTO:-0400
TZNAME:EDT
DTSTART:20260308T070000
END:DAYLIGHT
BEGIN:STANDARD
TZOFFSETFROM:-0400
TZOFFSETTO:-0500
TZNAME:EST
DTSTART:20261101T060000
END:STANDARD
END:VTIMEZONE
BEGIN:VEVENT
DTSTART;VALUE=DATE:20250503
DTEND;VALUE=DATE:20250505
DTSTAMP:20260424T123725
CREATED:20241125T155403Z
LAST-MODIFIED:20250430T153738Z
UID:4227-1746230400-1746403199@www.indianadressage.org
SUMMARY:IDS May Schooling Show
DESCRIPTION:Join us as we kick off the show season with the IDS May Schooling Show at the Hoosier Horse Park on Saturday and Sunday May 3-4. \nJudges: Paula Briney “r” (IL) and Elizabeth Gagliardi “L Grad w/ Distinction” (IN) \nProvisional Schedule & Live Scoring\nStall Charts & Campsite Assignments\nCompetitor Notes\nPrizelist\nLiability Waiver\nVolunteer\nNeed a bit of work before showing? We have two new options. \nWe still have 1 spot available in our $20 Ride-a-Test Clinic Friday afternoon for a chance to warm-up and Ride-a-Test at the horsepark. Stephanie Sidoti Hall (L Graduate) will judge your test and give you feedback to improve the quality of your ride\, then you’ll have a chance to come back and re-ride your test after a short schooling period. \nAnd new for 2025\, we’ve added a Coached Test of Choice class both Saturday and Sunday. The Coached Test of Choice gives riders the chance to ride down centerline with your coach in your ear. In these two Coached classes\, we allow coach and rider to wear wireless communication devices\, typically Bluetooth headsets paired to CeeCoach radios or phones. Coached Test of Choice rides will be scored like Hors Concours (HC) rides where the judge will score the ride\, but the score is never published or counted towards ribbons or year end awards.
URL:https://www.indianadressage.org/event/ids-may-schooling-show-2/
LOCATION:Hoosier Horse Park\, 7105 South Kern Street\, Nineveh\, IN\, 46164\, United States
CATEGORIES:Shows
END:VEVENT
END:VCALENDAR