BEGIN:VCALENDAR
VERSION:2.0
PRODID:-//Indiana Dressage Society - ECPv6.15.20//NONSGML v1.0//EN
CALSCALE:GREGORIAN
METHOD:PUBLISH
X-WR-CALNAME:Indiana Dressage Society
X-ORIGINAL-URL:https://www.indianadressage.org
X-WR-CALDESC:Events for Indiana Dressage Society
REFRESH-INTERVAL;VALUE=DURATION:PT1H
X-Robots-Tag:noindex
X-PUBLISHED-TTL:PT1H
BEGIN:VTIMEZONE
TZID:America/Indiana/Indianapolis
BEGIN:DAYLIGHT
TZOFFSETFROM:-0500
TZOFFSETTO:-0400
TZNAME:EDT
DTSTART:20230312T070000
END:DAYLIGHT
BEGIN:STANDARD
TZOFFSETFROM:-0400
TZOFFSETTO:-0500
TZNAME:EST
DTSTART:20231105T060000
END:STANDARD
BEGIN:DAYLIGHT
TZOFFSETFROM:-0500
TZOFFSETTO:-0400
TZNAME:EDT
DTSTART:20240310T070000
END:DAYLIGHT
BEGIN:STANDARD
TZOFFSETFROM:-0400
TZOFFSETTO:-0500
TZNAME:EST
DTSTART:20241103T060000
END:STANDARD
BEGIN:DAYLIGHT
TZOFFSETFROM:-0500
TZOFFSETTO:-0400
TZNAME:EDT
DTSTART:20250309T070000
END:DAYLIGHT
BEGIN:STANDARD
TZOFFSETFROM:-0400
TZOFFSETTO:-0500
TZNAME:EST
DTSTART:20251102T060000
END:STANDARD
BEGIN:DAYLIGHT
TZOFFSETFROM:-0500
TZOFFSETTO:-0400
TZNAME:EDT
DTSTART:20260308T070000
END:DAYLIGHT
BEGIN:STANDARD
TZOFFSETFROM:-0400
TZOFFSETTO:-0500
TZNAME:EST
DTSTART:20261101T060000
END:STANDARD
BEGIN:DAYLIGHT
TZOFFSETFROM:-0500
TZOFFSETTO:-0400
TZNAME:EDT
DTSTART:20270314T070000
END:DAYLIGHT
BEGIN:STANDARD
TZOFFSETFROM:-0400
TZOFFSETTO:-0500
TZNAME:EST
DTSTART:20271107T060000
END:STANDARD
END:VTIMEZONE
BEGIN:VEVENT
DTSTART;TZID=America/Indiana/Indianapolis:20260418T080000
DTEND;TZID=America/Indiana/Indianapolis:20260419T170000
DTSTAMP:20260423T141456
CREATED:20260208T200904Z
LAST-MODIFIED:20260328T143008Z
UID:4543-1776499200-1776618000@www.indianadressage.org
SUMMARY:IDS Clinic with Ulf Wadeborn
DESCRIPTION:Please join us for an IDS clinic hosting Ulf Wadeborn at Ellen Smitson’s Fishback Creek Farm in Zionsville\, IN from April 18-19\, 2026. \nUlf Wadeborn is a native of Sweden with an extensive equestrian career. Ulf originally came to California on vacation with friend and longtime trainer Bo Tibblin and longtime friend and associate Maria Torwald. What was supposed to be vacation turned into a partnership offer by Lars. With a background in jumping and dressage\, Ulf was educated at Strömsholm\, the Swedish National Riding School\, and has worked with Bo Tibblin\, the former head of dressage training. \nPrior to him coming to the United States\, Ulf worked for Strömsholm\, in the capacity as Head of Stable Management\, and more recently as a riding and training consultant for the Swedish Equestrian Federation. Besides competing in both jumping and dressage competitions\, Ulf is a certified ‘R’ rated judge within Sweden\, and he has been awarded his ‘S’ USEF judging license in the United States. Ulf is a board member of SWANA (Swedish Warmblood Association North America) and he has also become a breeding judge within Sweden. Ulf is a member of the USEF\, USDF\, CDS\, Former President of Swedish Warmblood Society of North America and Dressage Swedish Ring. \nSign Up to Ride or Audit \nRiding spots are sold out. Please contact mary.s.aitken@gmail.com if you’d like to be added to the wait list.\nRide In the Clinic – Sold Out\nAudit the Clinic
URL:https://www.indianadressage.org/event/ids-clinic-with-ulf-wadeborn/
LOCATION:Fishback Creek Farm\, 7867 S. Retriever Lane\, Zionsville\, IN\, 46077\, United States
CATEGORIES:Clinics,Education
ORGANIZER;CN="Mary Aitken":MAILTO:mary.s.aitken@gmail.com
END:VEVENT
BEGIN:VEVENT
DTSTART;VALUE=DATE:20260411
DTEND;VALUE=DATE:20260413
DTSTAMP:20260423T141456
CREATED:20260214T203311Z
LAST-MODIFIED:20260406T231959Z
UID:4580-1775865600-1776038399@www.indianadressage.org
SUMMARY:2026 Western Dressage Clinic with Cindy Butler
DESCRIPTION:IDS will be hosting Cindy Butler at Randy McStoots’ RM Elite Equine\, LLC on April 11 and 12\, 2026. Stabling is available. \nCindy Butler of Caseyville\, IL is the current president of Western Dressage Association of America (WDAA). She holds multiple judges cards including a R western dressage card. She also works as an instructor in the WDAA Group Apprentice Judges Program and the WDAA Judges seminar and serves on many of the WDAA’s committees. She is also the recipient of the 2025 Pegasus Medal of Honor that was presented during the US Equestrian Pegasus awards in January. This award recognizes individuals whose dedication\, leadership\, and lifelong service have shaped the landscape of equestrian sport. Honoring those who elevate our community\, our athletes and our future. \nSelection will be based on the information provided in the application regarding competition history for the horse and rider combination\, IDS membership and availability. Application is open to all rider divisions (professional\, adult amateur\, junior/Young Rider). The goal is to have an educational experience for all applicants. \n\nPrivate Lessons $150/each\nStalls $20/night\nLunch $15/day\nRide In the Clinic\nAudit the Clinic\nRide Times
URL:https://www.indianadressage.org/event/2026-western-dressage-clinic-with-cindy-butler/
LOCATION:RM Elite Equine\, 9906 SR 9\, Pendleton\, IN\, 46064\, United States
CATEGORIES:Clinics,Education
ORGANIZER;CN="Leah Borders":MAILTO:lmborders21@yahoo.com
END:VEVENT
BEGIN:VEVENT
DTSTART;TZID=America/Indiana/Indianapolis:20250120T193000
DTEND;TZID=America/Indiana/Indianapolis:20250120T203000
DTSTAMP:20260423T141456
CREATED:20241125T160627Z
LAST-MODIFIED:20241213T124324Z
UID:4237-1737401400-1737405000@www.indianadressage.org
SUMMARY:Paralympic Gold Medalist Rebecca Hart Webinar
DESCRIPTION:The Indiana Dressage Society is honored to present a once in a lifetime webinar to hear from the best of the best\, international competitor and 3-time Para Olympic Gold Medalist\, Rebecca Hart!  Rebecca will be sharing her journey and fielding your questions in a virtual event available to all USDF members. \nThe webinar will be held on Monday\, January 20\, 2025 from 7:30pm – 8:30pm East Coast Time.
URL:https://www.indianadressage.org/event/paralympic-gold-medalist-rebecca-hart-webinar/
LOCATION:Zoom Webcast
CATEGORIES:Education,Webcasts
ORGANIZER;CN="Ken Levy":MAILTO:kenl330@yahoo.com
END:VEVENT
BEGIN:VEVENT
DTSTART;VALUE=DATE:20241003
DTEND;VALUE=DATE:20241007
DTSTAMP:20260423T141456
CREATED:20240402T164917Z
LAST-MODIFIED:20240919T013800Z
UID:3956-1727913600-1728259199@www.indianadressage.org
SUMMARY:IDS Adult Camp
DESCRIPTION:Indiana Dressage Society Presents: Adult Dressage Camp October 4th\, 5th and 6th 2024 \nWant to immerse yourself in a weekend of fun\, education\, friends and most importantly Dressage? Then plan to join us for the IDS Adult Dressage Camp to be held October 4th-6th at the Hoosier Horse Park. We will host up to 18 adult riders (must be 18+) for a weekend of instruction\, lectures\, friendship and horses! \nApply To Ride or Sign Up To Audit\nRegistration will open in May and will be first-come-first-served with preference given to current IDS/USDF members. If the Camp is over subscribed\, there will be a lottery to determine who is selected to ride. \nThis camp is appropriate for riders from Training to 4th Level. \nA deposit of $200 will be required at registration (and will be refunded for those who are not selected in the case of a lottery) and a wait list will be started once we have 18 riders. The balance of fees will be due 30 days before the start of camp (September 4\, 2024) \nAs is customary in a clinic situation\, if you are selected to ride and then have to cancel your refund will be determined by whether or not your spot can be filled. \nHorse or rider injury (or illness) that eliminates the ability to participate in the camp program: Rider must submit medical proof of either the rider’s or horse’s injury/illness prior to the date balance is due. In this case the deposit is forfeit\, but the team will not be liable for the remainder of the balance and the spot will be offered to individuals on the waiting list. \nIf the rider cancels after paying the balance of $600\, and another rider is available to take the spot\, the rider will receive a refund minus a $25 office fee. If no rider is available to take the place of the injured or sick team\, a refund of $400 will be provided. \nThe fee schedule for Camp is as follows:\n$800.00\n2 lessons each day given by USDF Certified Instructors\nAll meals\nDaily lectures at lunch and during the evenings\nStabling for the weekend\nFun activities such as trail rides\, and even story time\nCamper spaces will be available for anyone who wants to stay on grounds in their trailers (or tents if you are tough!) $30 per night. \nLodging:\nWe will also be reserving hotel rooms (location TBD) somewhere near the horse park for those who need them.\nAccommodations will be paid for individually by campers and we would encourage folks to consider sharing rooms and or trailers where you can! \nArrival:\nCampers will move in on Thursday October 3rd and enjoy a Meet and Greet Social gathering. Lessons and lectures will begin on Friday the 4th. We will be working out the topics soon\, so watch this space for further information. \nAuditors Welcomed!\nIncludes lectures and activities\, Meals optional.\nAbility to watch all lessons\nUnlimited number of auditors welcome! \nApply To Ride or Sign Up To Audit\nMeet our Clinicians\nKaren McGoldrick\nKaren McGoldrick rides and teaches dressage in Canton\, Georgia. She is the author of a series of novels titled\, “The Dressage Chronicles” as well as the novel “Betwixt the Stirrup and the Ground” and its sequel\, “Mercy Asked\, Mercy Found. She earned her USDF Bronze\, Silver\, and Gold rider medals on horses she trained herself. She graduated “with Distinction” from the USDF “L” program. She is a USDF certified Instructor/Trainer through fourth level. Although semi-retired\, she is lucky enough to still have horses in her daily life. \nSummary of Achievements:\nBronze\, Silver and Gold medals\nUSDF L Program graduate with Distinction\nUSDF Certified Instructor through 4th Level \nJennifer Grant\nGrant is a USDF Silver and Bronze Medalist\, L Graduate with Distinction. She has helped several students achieve their bronze and silver medals and is a USDF certified instructor through 2nd level and eligible for certification through 4th level. She has previously taught 4 other dressage camps at her training facility outside of Cincinnati and recently had an article published on myUSDF.org. She has trained several horses to 4th level\, competed through Intermediate on an Appendix Quarter Horse she trained herself and currently working on Grand Prix. Jennifer was a working student for Pamela Goodrich and continues to work with Pam as well as riding in clinics with Cindy Ishoy\, Lilo Fore\, Olivia LaGoy Weltz\, Jeremy Steinberg\, Lendon Grey\, Steffen Peters\, Courtney King Dye\, and Jane Savoie. \nSummary of Achievements:\nSilver and Gold medals\nUSDF L graduate with Distinction\nUSDF Certified Instructor through 2nd Level \nKate Fleming-Kuhn\nKate Fleming-Kuhn is a USDF Certified Instructor through Fourth Level and USDF Bronze\, Silver (at age 16)\, and Gold Medalist (at age 21). Kate has trained horses and riders through Grand Prix with regional and national success. Kate’s introduction to horses came early through her father\, Dr. James Fleming. She began riding at StarWest as a junior rider in 1992\, taking lessons with Alice Martin. Kate continues her education under her long-time mentor\, Gerhard Politz\, with whom she has ridden since 1998 in clinics and as a working student. Kate has also ridden regularly under Col. Christian Carde\, Conrad Schumacher\, and Lilo Fore. \nSummary of Achievements:\nBronze\, Silver and Gold medals\nUSDF Certified Instructor through 4th Level \nApply To Ride or Sign Up To Audit
URL:https://www.indianadressage.org/event/ids-adult-camp/
LOCATION:Hoosier Horse Park\, 7105 South Kern Street\, Nineveh\, IN\, 46164\, United States
CATEGORIES:Clinics,Education
END:VEVENT
BEGIN:VEVENT
DTSTART;VALUE=DATE:20240427
DTEND;VALUE=DATE:20240429
DTSTAMP:20260423T141456
CREATED:20231107T195733Z
LAST-MODIFIED:20231215T215338Z
UID:3804-1714176000-1714348799@www.indianadressage.org
SUMMARY:USDF L Education Program - Part 1\, Session C
DESCRIPTION:IDS is pleased to host Part 1 of the USDF L Education Program in the Winter/Spring of 2024! \nDeveloped by the USDF Judges’ Committee\, this educational training program teaches judges to evaluate the correct training of dressage horses. \nThe L Education Program is designed with several goals in mind: \n\nProvide trainers\, instructors\, competitors and spectators’ insight into the evaluative techniques of judging dressage.\nPrepare and evaluate candidates who wish to pursue entry into the USEF ‘r’ Judge Training Program.\nProvide continuing education for licensed judges and L graduates.\n\nThe Program is divided into two parts; each part is made up of three sessions. IDS will be hosting Part 1 – “A Judge’s Perspective” which is open to all USDF Members; this is the educational foundation of the program. \nPart 1\, Session A\nAn introduction to judging and biomechanics. View overview video\nInstructor: Kathy Rouse\nFebruary 17-18\, 2024 in Whitestown\, IN \nPart 1\, Session B\nJudging criteria for gaits & paces\, movements & figures. View overview video\nInstructor: Lisa Schmidt\nMarch 16-17\, 2024 in Whitestown\, IN \nPart 1\, Session C\nCollective marks\, equitation\, rider biomechanics and basics.\nInstructor: Joan Darnell\nApril 27-28\, 2024 in Pittsboro\, IN \nApply to Participate or Audit\nL Education Program – Participant Application
URL:https://www.indianadressage.org/event/usdf-l-education-program-part-1-session-c/
LOCATION:Far Away Farms\, 4169 E Boone County Rd\, Pittsboro\, IN\, 46167
CATEGORIES:Education
ORGANIZER;CN="Deb Roccaforte":MAILTO:droccaforte@msn.com
END:VEVENT
BEGIN:VEVENT
DTSTART;VALUE=DATE:20240316
DTEND;VALUE=DATE:20240318
DTSTAMP:20260423T141456
CREATED:20231107T195522Z
LAST-MODIFIED:20231215T215357Z
UID:3798-1710547200-1710719999@www.indianadressage.org
SUMMARY:USDF L Education Program - Part 1\, Session B
DESCRIPTION:IDS is pleased to host Part 1 of the USDF L Education Program in the Winter/Spring of 2024! \nDeveloped by the USDF Judges’ Committee\, this educational training program teaches judges to evaluate the correct training of dressage horses. \nThe L Education Program is designed with several goals in mind: \n\nProvide trainers\, instructors\, competitors and spectators’ insight into the evaluative techniques of judging dressage.\nPrepare and evaluate candidates who wish to pursue entry into the USEF ‘r’ Judge Training Program.\nProvide continuing education for licensed judges and L graduates.\n\nThe Program is divided into two parts; each part is made up of three sessions. IDS will be hosting Part 1 – “A Judge’s Perspective” which is open to all USDF Members; this is the educational foundation of the program. \nPart 1\, Session A\nAn introduction to judging and biomechanics. View overview video\nInstructor: Kathy Rouse\nFebruary 17-18\, 2024 in Whitestown\, IN \nPart 1\, Session B\nJudging criteria for gaits & paces\, movements & figures. View overview video\nInstructor: Lisa Schmidt\nMarch 16-17\, 2024 in Whitestown\, IN \nPart 1\, Session C\nCollective marks\, equitation\, rider biomechanics and basics.\nInstructor: Joan Darnell\nApril 27-28\, 2024 in Pittsboro\, IN \nApply to Participate or Audit\nL Education Program – Participant Application
URL:https://www.indianadressage.org/event/usdf-l-education-program-part-1-session-b/
LOCATION:Wind Crest Farm\, 7829 E 100 N\, Whitestown\, IN\, 46075\, United States
CATEGORIES:Education
ORGANIZER;CN="Deb Roccaforte":MAILTO:droccaforte@msn.com
END:VEVENT
BEGIN:VEVENT
DTSTART;VALUE=DATE:20240217
DTEND;VALUE=DATE:20240219
DTSTAMP:20260423T141456
CREATED:20231107T192956Z
LAST-MODIFIED:20231215T215309Z
UID:3794-1708128000-1708300799@www.indianadressage.org
SUMMARY:USDF L Education Program - Part 1\, Session A
DESCRIPTION:IDS is pleased to host Part 1 of the USDF L Education Program in the Winter/Spring of 2024! \nDeveloped by the USDF Judges’ Committee\, this educational training program teaches judges to evaluate the correct training of dressage horses. \nThe L Education Program is designed with several goals in mind: \n\nProvide trainers\, instructors\, competitors and spectators’ insight into the evaluative techniques of judging dressage.\nPrepare and evaluate candidates who wish to pursue entry into the USEF ‘r’ Judge Training Program.\nProvide continuing education for licensed judges and L graduates.\n\nThe Program is divided into two parts; each part is made up of three sessions. IDS will be hosting Part 1 – “A Judge’s Perspective” which is open to all USDF Members; this is the educational foundation of the program. \nPart 1\, Session A\nAn introduction to judging and biomechanics. View overview video\nInstructor: Kathy Rouse\nFebruary 17-18\, 2024 in Whitestown\, IN \nPart 1\, Session B\nJudging criteria for gaits & paces\, movements & figures. View overview video\nInstructor: Lisa Schmidt\nMarch 16-17\, 2024 in Whitestown\, IN \nPart 1\, Session C\nCollective marks\, equitation\, rider biomechanics and basics.\nInstructor: Joan Darnell\nApril 27-28\, 2024 in Pittsboro\, IN \nApply to Participate or Audit\nL Education Program – Participant Application
URL:https://www.indianadressage.org/event/usdf-l-education-program-part-1-session-a/
LOCATION:Wind Crest Farm\, 7829 E 100 N\, Whitestown\, IN\, 46075\, United States
CATEGORIES:Education
ORGANIZER;CN="Deb Roccaforte":MAILTO:droccaforte@msn.com
END:VEVENT
BEGIN:VEVENT
DTSTART;TZID=America/Indiana/Indianapolis:20240130T190000
DTEND;TZID=America/Indiana/Indianapolis:20240130T220000
DTSTAMP:20260423T141456
CREATED:20231220T133008Z
LAST-MODIFIED:20240105T043728Z
UID:3849-1706641200-1706652000@www.indianadressage.org
SUMMARY:IDS Webcast: Know the Movements
DESCRIPTION:IDS is pleased to present the USDF program: Know the Movements as a 3-hour online session with “S” Judge Kathy Rowse presenting. \nThis remote education program was developed by USDF to cover all aspects of the test movements from Training through Fourth level including test directives\, gymnastic effect\, and what can go wrong. “S” Judge Kathy Rowse from Suffolk\, VA will instruct the course. \nKnow the Movements is an ideal learning opportunity for riders of all levels. Furthermore\, this program is approved for 3 hours of L Graduate Continuing Education with attendance and upon passing an online quiz at the conclusion of the session. \n \nAbout Kathy Rowse\nKathy Rowse is a USDF Bronze\, Silver and Gold medalist from Suffolk\, Virginia. Kathy has been a USEF “S” (Senior) dressage judge since 1999. She serves USDF as Vice-Chairman of the L Education Faculty and as a member on the Youth Committee in addition to many years spent on the board of her local GMO. Kathy is a Dedicated Pilates Practitioner and a Competitive Ballroom and Country Dancer.   \nSilverleaf Farm has very active Professional\, Junior/ Young Rider\, and Adult Amateur programs. Kathy travels extensively giving clinics and is delighted to work with all breeds and all levels of students helping them achieve their best. \n  \nSign-Up to Attend the IDS Webcast: Know the Movements
URL:https://www.indianadressage.org/event/ids-webcast-know-the-movements/
LOCATION:Zoom Webcast
CATEGORIES:Education
ORGANIZER;CN="LInda Kimbell":MAILTO:Lkimbell@eclipsere.com
END:VEVENT
END:VCALENDAR